BEGIN:VCALENDAR
VERSION:2.0
PRODID:-//Minnesota Astronomical Society - ECPv6.15.20//NONSGML v1.0//EN
CALSCALE:GREGORIAN
METHOD:PUBLISH
X-WR-CALNAME:Minnesota Astronomical Society
X-ORIGINAL-URL:https://www.mnastro.org
X-WR-CALDESC:Events for Minnesota Astronomical Society
REFRESH-INTERVAL;VALUE=DURATION:PT1H
X-Robots-Tag:noindex
X-PUBLISHED-TTL:PT1H
BEGIN:VTIMEZONE
TZID:America/Chicago
BEGIN:DAYLIGHT
TZOFFSETFROM:-0600
TZOFFSETTO:-0500
TZNAME:CDT
DTSTART:20240310T080000
END:DAYLIGHT
BEGIN:STANDARD
TZOFFSETFROM:-0500
TZOFFSETTO:-0600
TZNAME:CST
DTSTART:20241103T070000
END:STANDARD
BEGIN:DAYLIGHT
TZOFFSETFROM:-0600
TZOFFSETTO:-0500
TZNAME:CDT
DTSTART:20250309T080000
END:DAYLIGHT
BEGIN:STANDARD
TZOFFSETFROM:-0500
TZOFFSETTO:-0600
TZNAME:CST
DTSTART:20251102T070000
END:STANDARD
BEGIN:DAYLIGHT
TZOFFSETFROM:-0600
TZOFFSETTO:-0500
TZNAME:CDT
DTSTART:20260308T080000
END:DAYLIGHT
BEGIN:STANDARD
TZOFFSETFROM:-0500
TZOFFSETTO:-0600
TZNAME:CST
DTSTART:20261101T070000
END:STANDARD
END:VTIMEZONE
BEGIN:VEVENT
DTSTART;TZID=America/Chicago:20251017T180000
DTEND;TZID=America/Chicago:20251019T100000
DTSTAMP:20260420T105846
CREATED:20251017T145556Z
LAST-MODIFIED:20251017T145557Z
UID:10000435-1760724000-1760868000@www.mnastro.org
SUMMARY:2025 Member LLCC Observing Weekend - CANCELLED
DESCRIPTION:MAS Star Party Member Weekend\nUnlike other MAS star party sites\, the nature of the relationship between the MAS and the LLCC requirements affects access by both members and the general public. Specifically: \n\nOther than the Northern Nights Star Fest\, Events held at LLCC are not open to the public. Only MAS members and their immediate family members are authorized to attend scheduled events.\nCheck the MAS Forum on the LLCC Discussion forum page for details on each observing weekend.  Reply to the forum for the weekend desired and indicate if you are coming and whether you require lodging.  A LLCC Committee member will notify the administration on room requirements.  \nA weekend may be cancelled if weather or field conditions are not suitable.  You may be the only one attending or there may be others – it is up to the individual members to use the weather resources available and decide if it is worth making the trip.  Check the MAS Forum to see if others are going or not going\nThe site is not available for mid-week observing by members.\n\nCheck the MAS forum – ‘Long Lake Conservation Discussions’ topic and state that you intend to go to LLCC for the designated weekend.  The LLCC committee will notify LLCC management of member intentions and designate bunk rooms available for use (typically in the Marcum House). \nLLCC star parties may be available for Friday and Saturday evenings\, weather permitting. \nAdditional information on using the Long Lake Conservation Center\, including map and directions\, can be found on the LLCC page.
URL:https://www.mnastro.org/event/2025-member-llcc-observing-weekend-2/
LOCATION:Long Lake Conservation Center\, 28952 438th Lane\, Palisade\, 56469\, United States
CATEGORIES:member,Member Star Party
ATTACH;FMTTYPE=image/png:https://www.mnastro.org/wp-content/uploads/2021/11/llcc_logo.png
GEO:46.647;-93.465
X-APPLE-STRUCTURED-LOCATION;VALUE=URI;X-ADDRESS=Long Lake Conservation Center 28952 438th Lane Palisade 56469 United States;X-APPLE-RADIUS=500;X-TITLE=28952 438th Lane:geo:-93.465,46.647
END:VEVENT
BEGIN:VEVENT
DTSTART;TZID=America/Chicago:20251017T190000
DTEND;TZID=America/Chicago:20251018T050000
DTSTAMP:20260420T105846
CREATED:20241212T012625Z
LAST-MODIFIED:20241212T012629Z
UID:10000444-1760727600-1760763600@www.mnastro.org
SUMMARY:2025 Mini Messier Marathon
DESCRIPTION:MAS MINI MESSIER MARATHON\nA Messier Marathon is an attempt to find as many Messier objects as possible during one night. The Messier catalogue was compiled by French astronomer Charles Messier during the late 18th century and consists of 110 relatively bright deep sky objects (galaxies\, nebulae\, and star clusters). \nThe first MAS Messier Marathon was held on March 13\, 1999 (Apr Gemini\, pg 4)\, and has been held annually at the Cherry Grove Observatory. The marathon is scheduled for the new moon weekend nearest the spring equinox with Saturday being the primary night\, and Friday being the backup night. \nAs with all Cherry Grove events\, the marathon is held only if the skies are clear and will be CANCELLED IF CLOUDY. See the MAS home page or Forum for the latest information regarding the star party status.
URL:https://www.mnastro.org/event/2025-mini-messier-marathon/
LOCATION:Cherry Grove Observatory\, 8485 520th Street\, Kenyon\, MN\, 55946\, United States
CATEGORIES:member,Member Star Party
ATTACH;FMTTYPE=image/jpeg:https://www.mnastro.org/wp-content/uploads/2022/02/messier-marathon.jpeg
GEO:44.1971;-92.8623
X-APPLE-STRUCTURED-LOCATION;VALUE=URI;X-ADDRESS=Cherry Grove Observatory 8485 520th Street Kenyon MN 55946 United States;X-APPLE-RADIUS=500;X-TITLE=8485 520th Street:geo:-92.8623,44.1971
END:VEVENT
BEGIN:VEVENT
DTSTART;TZID=America/Chicago:20251024T180000
DTEND;TZID=America/Chicago:20251026T110000
DTSTAMP:20260420T105846
CREATED:20241210T010432Z
LAST-MODIFIED:20241210T010437Z
UID:10000436-1761328800-1761476400@www.mnastro.org
SUMMARY:2025 Member LLCC Observing Weekend
DESCRIPTION:MAS Star Party Member Weekend\nUnlike other MAS star party sites\, the nature of the relationship between the MAS and the LLCC requirements affects access by both members and the general public. Specifically: \n\nOther than the Northern Nights Star Fest\, Events held at LLCC are not open to the public. Only MAS members and their immediate family members are authorized to attend scheduled events.\nCheck the MAS Forum on the LLCC Discussion forum page for details on each observing weekend.  Reply to the forum for the weekend desired and indicate if you are coming and whether you require lodging.  A LLCC Committee member will notify the administration on room requirements.  \nA weekend may be cancelled if weather or field conditions are not suitable.  You may be the only one attending or there may be others – it is up to the individual members to use the weather resources available and decide if it is worth making the trip.  Check the MAS Forum to see if others are going or not going\nThe site is not available for mid-week observing by members.\n\nCheck the MAS forum – ‘Long Lake Conservation Discussions’ topic and state that you intend to go to LLCC for the designated weekend.  The LLCC committee will notify LLCC management of member intentions and designate bunk rooms available for use (typically in the Marcum House). \nLLCC star parties may be available for Friday and Saturday evenings\, weather permitting. \nAdditional information on using the Long Lake Conservation Center\, including map and directions\, can be found on the LLCC page.
URL:https://www.mnastro.org/event/2025-member-llcc-observing-weekend/2025-10-24/
LOCATION:Long Lake Conservation Center\, 28952 438th Lane\, Palisade\, 56469\, United States
CATEGORIES:member,Member Star Party
ATTACH;FMTTYPE=image/png:https://www.mnastro.org/wp-content/uploads/2021/11/llcc_logo.png
GEO:46.647;-93.465
X-APPLE-STRUCTURED-LOCATION;VALUE=URI;X-ADDRESS=Long Lake Conservation Center 28952 438th Lane Palisade 56469 United States;X-APPLE-RADIUS=500;X-TITLE=28952 438th Lane:geo:-93.465,46.647
END:VEVENT
END:VCALENDAR