BEGIN:VCALENDAR
VERSION:2.0
PRODID:-//Minnesota Astronomical Society - ECPv6.15.20//NONSGML v1.0//EN
CALSCALE:GREGORIAN
METHOD:PUBLISH
X-WR-CALNAME:Minnesota Astronomical Society
X-ORIGINAL-URL:https://www.mnastro.org
X-WR-CALDESC:Events for Minnesota Astronomical Society
REFRESH-INTERVAL;VALUE=DURATION:PT1H
X-Robots-Tag:noindex
X-PUBLISHED-TTL:PT1H
BEGIN:VTIMEZONE
TZID:America/Chicago
BEGIN:DAYLIGHT
TZOFFSETFROM:-0600
TZOFFSETTO:-0500
TZNAME:CDT
DTSTART:20250309T080000
END:DAYLIGHT
BEGIN:STANDARD
TZOFFSETFROM:-0500
TZOFFSETTO:-0600
TZNAME:CST
DTSTART:20251102T070000
END:STANDARD
BEGIN:DAYLIGHT
TZOFFSETFROM:-0600
TZOFFSETTO:-0500
TZNAME:CDT
DTSTART:20260308T080000
END:DAYLIGHT
BEGIN:STANDARD
TZOFFSETFROM:-0500
TZOFFSETTO:-0600
TZNAME:CST
DTSTART:20261101T070000
END:STANDARD
BEGIN:DAYLIGHT
TZOFFSETFROM:-0600
TZOFFSETTO:-0500
TZNAME:CDT
DTSTART:20270314T080000
END:DAYLIGHT
BEGIN:STANDARD
TZOFFSETFROM:-0500
TZOFFSETTO:-0600
TZNAME:CST
DTSTART:20271107T070000
END:STANDARD
END:VTIMEZONE
BEGIN:VEVENT
DTSTART;TZID=America/Chicago:20260604T190000
DTEND;TZID=America/Chicago:20260604T210000
DTSTAMP:20260420T123250
CREATED:20251223T183707Z
LAST-MODIFIED:20251223T183707Z
UID:10000500-1780599600-1780606800@www.mnastro.org
SUMMARY:2026 MAS Monthly Meeting
DESCRIPTION:The MAS will be hosting a hybrid in-person & ZOOM Monthly Meeting.  MAS meetings are free and open to the public. JOIN US! \nFeatured Speaker: TBD\nTopic: TBD \nReminder if you are feeling ill or have been around someone who has been ill\, PLEASE STAY HOME!! \nMeeting Location:\nAŊPÉTU TÉČA Education Center\n1910 County Road B West\nRoseville\, Minnesota 55113 \n			\n			\n				\n				\n				\n				\n			\n				\n				\n				\n				\n				\n				\n				\n				\n				\n				\n				The hybrid meetings will be recorded on ZOOM\, and post-edited for publication after a few days on the MAS YouTube Channel. \nThis meeting will be held online using Zoom using the following URL: \nYou can probably hear best with a headset but your computer’s speaker and microphone will also work. \nDialing-in with a phone: \n\nMeeting ID:  \nPasscode:\nNumber: +1 312 626 6799 US (Chicago)\n\nIn order to ensure the most success we are asking everyone to follow a couple of rules: \n\nDon’t turn on your camera – it sucks up bandwidth and we really don’t need to see you.\nKeep your microphone muted until you are prompted during a question and answer session during the presentation. This will cut down background noise substantially.\nYou can request to ask a question in the chat area of the Meet and wait to be prompted by the moderator.\n\nWe hope you can join us.\nClear skies! \n			\n			\n				\n				\n				\n				\n			\n				\n				\n				\n				\n				\n				\n				\n				\n				\n				\n				Fill out this form to be added to out ‘Weekly Happenings’ email newsletter!\n			\n				\n				\n				\n				\n				\n				\n				\n					\n				\n				\n					\n\n  \n\n\n\n Your name:\n     \n\n Your email:
URL:https://www.mnastro.org/event/2026-jun-monthly-meeting/
LOCATION:MAS Hybrid Monthly Meeting at AŊPÉTU TÉČA Education Center\, 1910 County Road B West\, Roseville\, MN\, 55113\, United States
CATEGORIES:public
ATTACH;FMTTYPE=image/jpeg:https://www.mnastro.org/wp-content/uploads/2024/09/MASHybrid.jpg
END:VEVENT
BEGIN:VEVENT
DTSTART;TZID=America/Chicago:20260606T190000
DTEND;TZID=America/Chicago:20260606T220000
DTSTAMP:20260420T123250
CREATED:20251223T193549Z
LAST-MODIFIED:20251223T193552Z
UID:10000513-1780772400-1780783200@www.mnastro.org
SUMMARY:ELO Public Star Party
DESCRIPTION:7:00 PM Featured Speaker: TBD\nTopic: TBD \nDuring a Public Star Party\, we use our array of telescope platforms to show you the wonders of the night sky. Our primary goal during a star party is to view stars\, star clusters\, galaxies\, nebula\, planets and maybe a comet or two\, all observable through our telescopes. There may also be a presentation or Q&A session at a public event. Public star parties typically run from 7:00-10:00 pm\, although we tend to stay later during the summer months as the summer sunset is later. Note that the Park is open daily from 6:00 am to 10:00 pm. The main gate to the park entrance automatically closes at 10:00 pm\, so please plan to arrive before then. \n			\n			\n				\n				\n				\n				\n			\n				\n				\n				\n				\n				\n				\n				\n				\n				\n				\n				Public Star Parties are typically all-weather events. Even if it’s cloudy someone will open the observatory for a tour\, give a presentation or answer any astronomy questions you may have. If this is your first star party\, or it’s been a while since you’ve been to one\, please review the Public Star Party Guidelines. \nAnnually\, we also host all day events for the Spring and Fall Astronomy Day and the annual Camping with the Stars event.  Additionally\, we may schedule special events throughout the year for a unique astronomical happenings such as an eclipses\, planetary oppositions\, conjunctions or comets. \n*Other than our Camping with the Stars (CWTS) event\, registration is not required to attend an event. CWTS is also the only event there is a fee to attend\, as it is coordinated through the Baylor Park offices. Call the Baylor Park Office at 952-466-5255 for CWTS registration and camping information. \nAdditional information as well as directions can be found on the Eagle Lake Observatory web page. \nEagle Lake Observatory         onaninfo@mnastro.org \n			\n			\n				\n				\n				\n				\n			\n				\n				\n				\n				\n				\n				\n				\n				\n				\n				\n				\n				\n				\n					\n				\n				\n					\n\n  \n\n\n\n Fill in this form to make an inquiry about our Public Star Parties at ELO.  \n\n\n\n Your name (required):\n     \n\n Your email (required):\n     \n\n Your phone:\n     \n\n ELO Event date (required):  \n\n Let us know if you have any questions or how we could help you! (required):
URL:https://www.mnastro.org/event/2026-elo-public-star-party/2026-06-06/
LOCATION:Eagle Lake Observatory\, 10775 County Road 33\, Norwood Young America\, MN\, 55397\, United States
CATEGORIES:public,Public Star Party
ATTACH;FMTTYPE=image/jpeg:https://www.mnastro.org/wp-content/uploads/2024/05/ELOAtSunset.jpg
GEO:44.8103;-93.9397
X-APPLE-STRUCTURED-LOCATION;VALUE=URI;X-ADDRESS=Eagle Lake Observatory 10775 County Road 33 Norwood Young America MN 55397 United States;X-APPLE-RADIUS=500;X-TITLE=10775 County Road 33:geo:-93.9397,44.8103
END:VEVENT
BEGIN:VEVENT
DTSTART;TZID=America/Chicago:20260606T200000
DTEND;TZID=America/Chicago:20260606T230000
DTSTAMP:20260420T123250
CREATED:20251227T175243Z
LAST-MODIFIED:20251227T175246Z
UID:10000530-1780776000-1780786800@www.mnastro.org
SUMMARY:2026 BSIG Observing Session
DESCRIPTION:Are you new to MAS?  Do you have a new telescope\, but need some help setting it up?  Join us for the Beginner’s Special Interest Group’s Observing Session.  This is a free event\, and open to all who want to learn!\n \nWe hope you can make it!\nMAS Metcalf Observing Field \nThere is no charge to attend a beginner event\, and you do not need to be an MAS member to attend — everyone is welcome!! The purpose is to help beginners learn the night sky\, and how to set up and use a telescope. Volunteers from the MAS will be on hand to answer your questions. \nIf you have a telescope\, feel free to bring it. If you need help with learning how to set up and use it\, we are happy to help!  Sign up below to be notified about any schedule changes. \n			\n			\n				\n				\n				\n				\n			\n				\n				\n				\n				\n				\n				\n				\n				\n				\n				\n				If you haven’t been to Metcalf Field\, it can be a little difficult to locate the entrance. So please arrive in daylight. \nThe BSIG Coordinator will make the final Go/No Go call on the evening of Thursday before the event\, based on the weather forecast. If Friday is more favorable\, then the session may be moved to Friday. \nPlease monitor the MAS BSIG Forum for latest updates. \nIf you’d like to volunteer to help out at this and future Beginner group events\, please let me know.\n			\n			\n				\n				\n				\n				\n			\n				\n				\n				\n				\n				\n				\n				\n				\n				\n				\n				\n				\n				\n					\n				\n				\n					\n\n  \n\n\n\n Fill in this form to sign-up for BSIG events only.  \n\nNote: Public Star Parties at ELO do not require sign-up. \n\n\n Your name (required):\n     \n\n Your email (required):\n     \n\n Your phone:\n     \n\n BSIG Event date (required):  \n\n Number people attending:  \n\n Let us know if you have any questions or how we could help you! (required):
URL:https://www.mnastro.org/event/2026-bsig-observing-session/2026-06-06/
LOCATION:Metcalf Field\, 795 Indian Trail S\, Afton\, MN\, 55001\, United States
CATEGORIES:Beginner's Observing Session,BSIG,public,Public Star Party
ATTACH;FMTTYPE=image/jpeg:https://www.mnastro.org/wp-content/uploads/2025/04/BSIGGathering.jpg
GEO:44.93734;-92.82157
X-APPLE-STRUCTURED-LOCATION;VALUE=URI;X-ADDRESS=Metcalf Field 795 Indian Trail S Afton MN 55001 United States;X-APPLE-RADIUS=500;X-TITLE=795 Indian Trail S:geo:-92.82157,44.93734
END:VEVENT
END:VCALENDAR