BEGIN:VCALENDAR
VERSION:2.0
PRODID:-//Minnesota Astronomical Society - ECPv6.15.20//NONSGML v1.0//EN
CALSCALE:GREGORIAN
METHOD:PUBLISH
X-WR-CALNAME:Minnesota Astronomical Society
X-ORIGINAL-URL:https://www.mnastro.org
X-WR-CALDESC:Events for Minnesota Astronomical Society
REFRESH-INTERVAL;VALUE=DURATION:PT1H
X-Robots-Tag:noindex
X-PUBLISHED-TTL:PT1H
BEGIN:VTIMEZONE
TZID:America/Chicago
BEGIN:DAYLIGHT
TZOFFSETFROM:-0600
TZOFFSETTO:-0500
TZNAME:CDT
DTSTART:20250309T080000
END:DAYLIGHT
BEGIN:STANDARD
TZOFFSETFROM:-0500
TZOFFSETTO:-0600
TZNAME:CST
DTSTART:20251102T070000
END:STANDARD
BEGIN:DAYLIGHT
TZOFFSETFROM:-0600
TZOFFSETTO:-0500
TZNAME:CDT
DTSTART:20260308T080000
END:DAYLIGHT
BEGIN:STANDARD
TZOFFSETFROM:-0500
TZOFFSETTO:-0600
TZNAME:CST
DTSTART:20261101T070000
END:STANDARD
BEGIN:DAYLIGHT
TZOFFSETFROM:-0600
TZOFFSETTO:-0500
TZNAME:CDT
DTSTART:20270314T080000
END:DAYLIGHT
BEGIN:STANDARD
TZOFFSETFROM:-0500
TZOFFSETTO:-0600
TZNAME:CST
DTSTART:20271107T070000
END:STANDARD
END:VTIMEZONE
BEGIN:VEVENT
DTSTART;TZID=America/Chicago:20260424T200000
DTEND;TZID=America/Chicago:20260424T213000
DTSTAMP:20260420T093606
CREATED:20260417T134103Z
LAST-MODIFIED:20260417T134106Z
UID:10000570-1777060800-1777066200@www.mnastro.org
SUMMARY:Planets in the Park - Urban Family Star Party
DESCRIPTION:“Planets in the Park”\n* FAMILY FRIENDLY\, ALL AGES *>>>On Facebook: Planets in the Park<<< \nFriday\, April 24\, 2026\, 8:00 PM to 9:30 PMPershing Field Park\, 3523 W 48th Street \nSW Minneapolis \nAll Ages\, Clear or Cloudy \nAT NIGHT\, Pershing Park is Quiet\, Friendly\, Comfortable\, Conversational\, Accessible\, Dark Enough for the Moon and Planets\, Not Too Dark for safe walking\, \, Kids Riding Bikes\, Neighbors Walking Dogs\, Easy to walk at Night. \n\nTelescopes\, Jupiter\, Moon. Also\, Leo\, Gemini\, Auriga (the Charioteer). Diversity in the Sky. Beginners’ Astronomy Lesson\, much more!\n\n\n 
URL:https://www.mnastro.org/event/planets-in-the-park-urban-family-star-party-2/
LOCATION:Pershing Field Park\, 3523 W 48th Street\, Minneapolis\, MN\, 55410\, United States
CATEGORIES:public,Public Star Party
ATTACH;FMTTYPE=image/jpeg:https://www.mnastro.org/wp-content/uploads/2025/11/PitP_header.jpg
END:VEVENT
BEGIN:VEVENT
DTSTART;TZID=America/Chicago:20260425T140000
DTEND;TZID=America/Chicago:20260425T233000
DTSTAMP:20260420T093606
CREATED:20251224T225400Z
LAST-MODIFIED:20251224T225826Z
UID:10000524-1777125600-1777159800@www.mnastro.org
SUMMARY:2026 Spring Astronomy Day
DESCRIPTION:Saturday April 25\, 2025 \nThe Minnesota Astronomical Society would like to invite you to attend the Astronomical League’s Astronomy Day activities at the Eagle Lake Observatory in Baylor Regional Park. Speakers are scheduled throughout the day and will give talks on astronomy and what there is to see. Door prize drawing will be held Saturday evening and include MAS merchandise\, astronomy books and telescopes. The evening will continue with viewing through our array of telescopes observing some of the winter and early spring objects coming into view including the Orion Nebula\, Crab nebula\, the Sombrero Galaxy\, the Whirlpool Galaxy\, the Beehive Cluster\, the Black Eye Galaxy and Hercules cluster among many others. \n Schedule of Events \n The observatory opens and the Star Party begins at 2:00 pm. We will begin with solar viewing and other daytime objects. \nSchedule TBD \n Event Background \n​Astronomy Day is a grass roots movement designed to share the joy of astronomy with the general population – “Bringing Astronomy to the People.” On Astronomy Day\, thousands of people who have never looked through a telescope will have an opportunity to see first-hand what has so many amateur and professional astronomers all excited. \nAstronomy Day was born in California in 1973. Doug Berger\, then president of the Astronomical Association of Northern California\, decided that rather than try to entice people to travel long distances to visit observatory open houses\, they would set up telescopes closer to where the people were – busy locations – urban locations like street corners\, shopping malls\, parks\, etc.His strategy paid off. Not only did Astronomy Day go over with a bang\, not only did the public find out about the astronomy club\, they found out about future observatory open houses. Since the public got a chance to look through a portable telescope\, they were hooked. They wanted to see what went on at the bigger telescopes\, so they turned out in droves at the next observatory open house. \nFor additional information\, visit the Astronomical League’s website at https://www.astroleague.org/astronomyday/facts \n			\n				\n				\n				\n				\n				Public star parties are open to all. \nAdditional information as well as directions can be found on the Eagle Lake Observatory web page. \nonaninfo@mnastro.org \n			\n				\n				\n				\n				\n				\n				\n				\n					\n				\n				\n					\n\n  \n\n\n\n Fill in this form to make an inquiry about our Public Star Parties at ELO.  \n\n\n\n Your name (required):\n     \n\n Your email (required):\n     \n\n Your phone:\n     \n\n ELO Event date (required):  \n\n Let us know if you have any questions or how we could help you! (required):
URL:https://www.mnastro.org/event/2026-spring-astronomy-day/
LOCATION:Eagle Lake Observatory\, 10775 County Road 33\, Norwood Young America\, MN\, 55397\, United States
CATEGORIES:public,Public Star Party,Spring Astronomy Day
ATTACH;FMTTYPE=image/png:https://www.mnastro.org/wp-content/uploads/2021/04/astronomy-day-logo-sm.png
GEO:44.8103;-93.9397
X-APPLE-STRUCTURED-LOCATION;VALUE=URI;X-ADDRESS=Eagle Lake Observatory 10775 County Road 33 Norwood Young America MN 55397 United States;X-APPLE-RADIUS=500;X-TITLE=10775 County Road 33:geo:-93.9397,44.8103
END:VEVENT
BEGIN:VEVENT
DTSTART;TZID=America/Chicago:20260425T190000
DTEND;TZID=America/Chicago:20260425T230000
DTSTAMP:20260420T093606
CREATED:20251227T175243Z
LAST-MODIFIED:20251227T175246Z
UID:10000528-1777143600-1777158000@www.mnastro.org
SUMMARY:2026 BSIG Observing Session
DESCRIPTION:Are you new to MAS?  Do you have a new telescope\, but need some help setting it up?  Join us for the Beginner’s Special Interest Group’s Observing Session.  This is a free event\, and open to all who want to learn!\n \nWe hope you can make it!\nMAS Metcalf Observing Field \nThere is no charge to attend a beginner event\, and you do not need to be an MAS member to attend — everyone is welcome!! The purpose is to help beginners learn the night sky\, and how to set up and use a telescope. Volunteers from the MAS will be on hand to answer your questions. \nIf you have a telescope\, feel free to bring it. If you need help with learning how to set up and use it\, we are happy to help!  Sign up below to be notified about any schedule changes. \n			\n			\n				\n				\n				\n				\n			\n				\n				\n				\n				\n				\n				\n				\n				\n				\n				\n				If you haven’t been to Metcalf Field\, it can be a little difficult to locate the entrance. So please arrive in daylight. \nThe BSIG Coordinator will make the final Go/No Go call on the evening of Thursday before the event\, based on the weather forecast. If Friday is more favorable\, then the session may be moved to Friday. \nPlease monitor the MAS BSIG Forum for latest updates. \nIf you’d like to volunteer to help out at this and future Beginner group events\, please let me know.\n			\n			\n				\n				\n				\n				\n			\n				\n				\n				\n				\n				\n				\n				\n				\n				\n				\n				\n				\n				\n					\n				\n				\n					\n\n  \n\n\n\n Fill in this form to sign-up for BSIG events only.  \n\nNote: Public Star Parties at ELO do not require sign-up. \n\n\n Your name (required):\n     \n\n Your email (required):\n     \n\n Your phone:\n     \n\n BSIG Event date (required):  \n\n Number people attending:  \n\n Let us know if you have any questions or how we could help you! (required):
URL:https://www.mnastro.org/event/2026-bsig-observing-session/2026-04-25/
LOCATION:Metcalf Field\, 795 Indian Trail S\, Afton\, MN\, 55001\, United States
CATEGORIES:Beginner's Observing Session,BSIG,public,Public Star Party
ATTACH;FMTTYPE=image/jpeg:https://www.mnastro.org/wp-content/uploads/2025/04/BSIGGathering.jpg
GEO:44.93734;-92.82157
X-APPLE-STRUCTURED-LOCATION;VALUE=URI;X-ADDRESS=Metcalf Field 795 Indian Trail S Afton MN 55001 United States;X-APPLE-RADIUS=500;X-TITLE=795 Indian Trail S:geo:-92.82157,44.93734
END:VEVENT
END:VCALENDAR