BEGIN:VCALENDAR
VERSION:2.0
PRODID:-//Minnesota Astronomical Society - ECPv6.15.20//NONSGML v1.0//EN
CALSCALE:GREGORIAN
METHOD:PUBLISH
X-WR-CALNAME:Minnesota Astronomical Society
X-ORIGINAL-URL:https://www.mnastro.org
X-WR-CALDESC:Events for Minnesota Astronomical Society
REFRESH-INTERVAL;VALUE=DURATION:PT1H
X-Robots-Tag:noindex
X-PUBLISHED-TTL:PT1H
BEGIN:VTIMEZONE
TZID:America/Chicago
BEGIN:DAYLIGHT
TZOFFSETFROM:-0600
TZOFFSETTO:-0500
TZNAME:CDT
DTSTART:20220313T080000
END:DAYLIGHT
BEGIN:STANDARD
TZOFFSETFROM:-0500
TZOFFSETTO:-0600
TZNAME:CST
DTSTART:20221106T070000
END:STANDARD
BEGIN:DAYLIGHT
TZOFFSETFROM:-0600
TZOFFSETTO:-0500
TZNAME:CDT
DTSTART:20230312T080000
END:DAYLIGHT
BEGIN:STANDARD
TZOFFSETFROM:-0500
TZOFFSETTO:-0600
TZNAME:CST
DTSTART:20231105T070000
END:STANDARD
BEGIN:DAYLIGHT
TZOFFSETFROM:-0600
TZOFFSETTO:-0500
TZNAME:CDT
DTSTART:20240310T080000
END:DAYLIGHT
BEGIN:STANDARD
TZOFFSETFROM:-0500
TZOFFSETTO:-0600
TZNAME:CST
DTSTART:20241103T070000
END:STANDARD
END:VTIMEZONE
BEGIN:VEVENT
DTSTART;TZID=America/Chicago:20230907T190000
DTEND;TZID=America/Chicago:20230907T210000
DTSTAMP:20260420T123243
CREATED:20230321T205612Z
LAST-MODIFIED:20230904T194200Z
UID:10000192-1694113200-1694120400@www.mnastro.org
SUMMARY:Monthly MAS Meeting - Featured Speaker Mike Shaw
DESCRIPTION:The MAS will be hosting a hybrid in-person & ZOOM Monthly Meeting.  MAS meetings are free and open to the public. JOIN US! \nFeatured Speaker: Mike Shaw\nTopic: The Beginner’s Guide to Astrophotography\nThe author will be selling signed copies of book. \n The author will be selling signed copies of his new book “The Beginner’s Guide to Astrophotgraphy”. \nThree signed copies of the book will be gifted as door prize for the in-person attendees. \nCOVID-19 PROTOCOL:  Masks are welcome\, but not required at the Monthly Meeting.  Reminder if you are feeling ill or have been around someone who has been ill\, PLEASE STAY HOME!! \nMeeting Location:AŊPÉTU TÉČA Education Center (formerly the Fairview Community Center)1910 County Road B WestRoseville\, Minnesota 55113 \n			\n			\n				\n				\n				\n				\n			\n				\n				\n				\n				\n				\n				\n				\n				\n				\n				\n				The hybrid meetings will be recorded on ZOOM\, and post-edited for publication after a few days on the MAS YouTube Channel. \nThis meeting will be held online using Zoom using the following URL: Zoom LINK \nYou can probably hear best with a headset but your computer’s speaker and microphone will also work. \nDialing-in with a phone: \n\nMeeting ID: 873 4425 4090\nPasscode: 369412\nNumber: +1 312 626 6799 US (Chicago)\n\nIn order to ensure the most success we are asking everyone to follow a couple of rules: \n\nDon’t turn on your camera – it sucks up bandwidth and we really don’t need to see you.\nKeep your microphone muted until you are prompted during a question and answer session during the presentation. This will cut down background noise substantially.\nYou can request to ask a question in the chat area of the Meet and wait to be prompted by the moderator.\n\nWe hope you can join us.Clear skies! \n			\n			\n				\n				\n				\n				\n			\n				\n				\n				\n				\n				\n				\n				\n				\n				\n				\n				Fill out this form to be added to out ‘Weekly Happenings’ email newsletter!\n			\n				\n				\n				\n				\n				\n				\n				\n					\n				\n				\n					\n\n  \n\n\n\n Your name:\n     \n\n Your email:
URL:https://www.mnastro.org/event/monthly-mas-meeting-sept-2023/
LOCATION:MAS Hybrid Monthly Meeting at AŊPÉTU TÉČA Education Center\, 1910 County Road B West\, Roseville\, MN\, 55113\, United States
CATEGORIES:Monthly Meeting,public
END:VEVENT
BEGIN:VEVENT
DTSTART;TZID=America/Chicago:20230908T180000
DTEND;TZID=America/Chicago:20230910T090000
DTSTAMP:20260420T123243
CREATED:20221113T203047Z
LAST-MODIFIED:20231020T131205Z
UID:10000205-1694196000-1694336400@www.mnastro.org
SUMMARY:MAS LLCC Star Party Weekend
DESCRIPTION:MAS Star Party Member Weekend\nUnlike other MAS star party sites\, the nature of the relationship between the MAS and the LLCC requirements affects access by both members and the general public. Specifically: \n\nOther than the Northern Nights Star Fest\, Events held at LLCC are not open to the public. Only MAS members and their immediate family members are authorized to attend scheduled events.\nThe MAS does not call a star party “on” or “off” for any particular evening or weekend – it is up to the individual members to use the weather resources available and decide if it is worth making the trip.  Check the MAS Forum to see if others are going or not going \nThe site is not available for mid-week observing by members.\n\nCheck the MAS forum – ‘Long Lake Conservation Discussions’ topic and state that you intend to go to LLCC for the designated weekend.  The LLCC committee will notify LLCC management of member intentions and designate bunk rooms available for use (typically in the Marcum House). \nLLCC star parties may be available for Friday and Saturday evenings\, weather permitting. \nAdditional information on using the Long Lake Conservation Center\, including map and directions\, can be found on the LLCC page.
URL:https://www.mnastro.org/event/llcc-star-party-weekend/2023-09-08/
LOCATION:Long Lake Conservation Center\, 28952 438th Lane\, Palisade\, 56469\, United States
CATEGORIES:member,Member Star Party
GEO:46.647;-93.465
X-APPLE-STRUCTURED-LOCATION;VALUE=URI;X-ADDRESS=Long Lake Conservation Center 28952 438th Lane Palisade 56469 United States;X-APPLE-RADIUS=500;X-TITLE=28952 438th Lane:geo:-93.465,46.647
END:VEVENT
BEGIN:VEVENT
DTSTART;TZID=America/Chicago:20230908T190000
DTEND;TZID=America/Chicago:20230909T230000
DTSTAMP:20260420T123243
CREATED:20221227T190624Z
LAST-MODIFIED:20230908T001234Z
UID:10000268-1694199600-1694300400@www.mnastro.org
SUMMARY:BSIG Beginner's Observing Session at Metcalf Field
DESCRIPTION:MAS Metcalf Observing Field \nThere is no charge to attend a beginner event\, and you do not need to be an MAS member to attend — everyone is welcome!! The purpose is to help beginners learn the night sky\, and how to set up and use a telescope. Volunteers from the MAS will be on hand to answer your questions. \nIf you have a telescope\, feel free to bring it. If you need help with learning how to set up and use it\, we are happy to help! \n			\n			\n				\n				\n				\n				\n			\n				\n				\n				\n				\n				\n				\n				\n				\n				\n				\n				If you haven’t been to Metcalf Field\, it can be a little difficult to locate the entrance. So please arrive in daylight. \nThe BSIG Coordinator will make the final Go/No Go call on the evening of Thursday before the event\, based on the weather forecast. If Friday is more favorable\, then the session may be moved to Friday. \nPlease monitor the MAS BSIG Forum for latest updates. \nIf you’d like to volunteer to help out at this and future Beginner group events\, please let me know. \n			\n			\n				\n				\n				\n				\n			\n				\n				\n				\n				\n				\n				\n				\n				\n				\n				\n				\n				\n				\n					\n				\n				\n					\n\n  \n\n\n\n Fill in this form to sign-up for BSIG events only.  \n\nNote: Public Star Parties at ELO do not require sign-up. \n\n\n Your name (required):\n     \n\n Your email (required):\n     \n\n Your phone:\n     \n\n BSIG Event date (required):  \n\n Number people attending:  \n\n Let us know if you have any questions or how we could help you! (required):
URL:https://www.mnastro.org/event/bsig-beginners-observing-session-at-metcalf-field/2023-09-08/
LOCATION:Metcalf Field\, 795 Indian Trail S\, Afton\, MN\, 55001\, United States
CATEGORIES:Beginner's Observing Session,BSIG,public
GEO:44.93734;-92.82157
X-APPLE-STRUCTURED-LOCATION;VALUE=URI;X-ADDRESS=Metcalf Field 795 Indian Trail S Afton MN 55001 United States;X-APPLE-RADIUS=500;X-TITLE=795 Indian Trail S:geo:-92.82157,44.93734
END:VEVENT
BEGIN:VEVENT
DTSTART;TZID=America/Chicago:20230909T190000
DTEND;TZID=America/Chicago:20230909T220000
DTSTAMP:20260420T123243
CREATED:20221111T183948Z
LAST-MODIFIED:20230315T204920Z
UID:10000179-1694286000-1694296800@www.mnastro.org
SUMMARY:ELO Public Star Party
DESCRIPTION:The Minnesota Astronomical Society (MAS) host Public Star Parties approximately every other Saturday night\, from March to November\, at the Eagle Lake Observatory. Public star parties are open to all\, you do not need to be a MAS member to attend. Typically there is no fee to attend a star party\, however donations are greatly appreciated. \nDuring a Public Star Party\, we use our array of telescope platforms to show you the wonders of the night sky. Our primary goal during a star party is to view stars\, star clusters\, galaxies\, nebula\, planets and maybe a comet or two\, all observable through our telescopes. There may also be a presentation or Q&A session at a public event. Public star parties typically run from 7:00-10:00 pm\, although we tend to stay later during the summer months as the summer sunset is later. Note that the Park is open daily from 6:00 am to 10:00 pm. The main gate to the park entrance automatically closes at 10:00 pm\, so please plan to arrive before then. \n			\n			\n				\n				\n				\n				\n			\n				\n				\n				\n				\n				\n				\n				\n				\n				\n				\n				Public Star Parties are typically all-weather events. Even if it’s cloudy someone will open the observatory for a tour\, give a presentation or answer any astronomy questions you may have. If this is your first star party\, or it’s been a while since you’ve been to one\, please review the Public Star Party Guidelines.  Note the complete list of public events at ELO. or download/print a schedule from the MAS Handouts archive. \nAnnually\, we also host all day events for the Spring and Fall Astronomy Day and the annual Camping with the Stars event.  Additionally\, we may schedule special events throughout the year for a unique astronomical happenings such as an eclipses\, planetary oppositions\, conjunctions or comets. \n*Other than our Camping with the Stars (CWTS) event\, registration is not required to attend an event. CWTS is also the only event there is a fee to attend\, as it is coordinated through the Baylor Park offices. Call the Baylor Park Office at 952-466-5255 for CWTS registration and camping information. \nAdditional information as well as directions can be found on the Eagle Lake Observatory web page. \nEagle Lake Observatory44.8103 -93.9397 \nMerle Hiltner onaninfo@mnastro.org \n			\n			\n				\n				\n				\n				\n			\n				\n				\n				\n				\n				\n				\n				\n				\n				\n				\n				\n				\n				\n					\n				\n				\n					\n\n  \n\n\n\n Fill in this form to make an inquiry about our Public Star Parties at ELO.  \n\n\n\n Your name (required):\n     \n\n Your email (required):\n     \n\n Your phone:\n     \n\n ELO Event date (required):  \n\n Let us know if you have any questions or how we could help you! (required):
URL:https://www.mnastro.org/event/2022-elo-public-star-party/2023-09-09/
LOCATION:Eagle Lake Observatory\, 10775 County Road 33\, Norwood Young America\, MN\, 55397\, United States
CATEGORIES:public,Public Star Party
GEO:44.8103;-93.9397
X-APPLE-STRUCTURED-LOCATION;VALUE=URI;X-ADDRESS=Eagle Lake Observatory 10775 County Road 33 Norwood Young America MN 55397 United States;X-APPLE-RADIUS=500;X-TITLE=10775 County Road 33:geo:-93.9397,44.8103
END:VEVENT
BEGIN:VEVENT
DTSTART;TZID=America/Chicago:20230915T180000
DTEND;TZID=America/Chicago:20230917T090000
DTSTAMP:20260420T123243
CREATED:20221113T203047Z
LAST-MODIFIED:20231020T131205Z
UID:10000206-1694800800-1694941200@www.mnastro.org
SUMMARY:MAS LLCC Star Party Weekend
DESCRIPTION:MAS Star Party Member Weekend\nUnlike other MAS star party sites\, the nature of the relationship between the MAS and the LLCC requirements affects access by both members and the general public. Specifically: \n\nOther than the Northern Nights Star Fest\, Events held at LLCC are not open to the public. Only MAS members and their immediate family members are authorized to attend scheduled events.\nThe MAS does not call a star party “on” or “off” for any particular evening or weekend – it is up to the individual members to use the weather resources available and decide if it is worth making the trip.  Check the MAS Forum to see if others are going or not going \nThe site is not available for mid-week observing by members.\n\nCheck the MAS forum – ‘Long Lake Conservation Discussions’ topic and state that you intend to go to LLCC for the designated weekend.  The LLCC committee will notify LLCC management of member intentions and designate bunk rooms available for use (typically in the Marcum House). \nLLCC star parties may be available for Friday and Saturday evenings\, weather permitting. \nAdditional information on using the Long Lake Conservation Center\, including map and directions\, can be found on the LLCC page.
URL:https://www.mnastro.org/event/llcc-star-party-weekend/2023-09-15/
LOCATION:Long Lake Conservation Center\, 28952 438th Lane\, Palisade\, 56469\, United States
CATEGORIES:member,Member Star Party
GEO:46.647;-93.465
X-APPLE-STRUCTURED-LOCATION;VALUE=URI;X-ADDRESS=Long Lake Conservation Center 28952 438th Lane Palisade 56469 United States;X-APPLE-RADIUS=500;X-TITLE=28952 438th Lane:geo:-93.465,46.647
END:VEVENT
BEGIN:VEVENT
DTSTART;TZID=America/Chicago:20230923T130000
DTEND;TZID=America/Chicago:20230923T210000
DTSTAMP:20260420T123243
CREATED:20230908T010419Z
LAST-MODIFIED:20230908T010423Z
UID:10000272-1695474000-1695502800@www.mnastro.org
SUMMARY:Solar Viewing and Star Party at Cedar Creek
DESCRIPTION:Solar Viewing\nCedar Creek is excited to offer a Solar Viewing Party in partnership with the Minnesota Astronomical Society. The event will occur at Cedar Creek from 1:00 – 3:00 pm. Come to Cedar Creek to learn more about the sun and its importance to plants and life on Planet Earth. After family-friendly activities\, experienced Minnesota Astronomical Society Members will use special telescopes and telescope filters for safe solar viewing.* \nWe will then hold a regular star party starting at 7pm. \n*NOTE: Looking directly at the sun without specialized equipment and filters can cause permanent eye damage. \nDirections to Cedar Creek can be found on website.  Park near the Lindeman Lab Reception Hall.  The telescopes will be set up adjacent to the hall near the field. \n 
URL:https://www.mnastro.org/event/solar-viewing-and-star-party-at-cedar-creek/
LOCATION:Cedar Creek Ecosystem Science Reserve\, 2660 Fawn Lake Drive NE55005-9718\, Bethel\, MN\, 55005-9718\, United States
CATEGORIES:public
ATTACH;FMTTYPE=image/png:https://www.mnastro.org/wp-content/uploads/2023/02/CC-Globe-and-Wordmark-transparent.png
END:VEVENT
BEGIN:VEVENT
DTSTART;TZID=America/Chicago:20230923T130000
DTEND;TZID=America/Chicago:20230923T220000
DTSTAMP:20260420T123243
CREATED:20221004T194450Z
LAST-MODIFIED:20230914T183639Z
UID:10000162-1695474000-1695506400@www.mnastro.org
SUMMARY:2023 Fall Astronomy Day at Eagle Lake Observatory
DESCRIPTION:​Astronomy Day is a grass roots movement designed to share the joy of astronomy with the general population – “Bringing Astronomy to the People.” On Astronomy Day\, thousands of people who have never looked through a telescope will have an opportunity to see first-hand what has so many amateur and professional astronomers all excited. \nAstronomy Day was born in California in 1973. Doug Berger\, then president of the Astronomical Association of Northern California\, decided that rather than try to entice people to travel long distances to visit observatory open houses\, they would set up telescopes closer to where the people were – busy locations – urban locations like street corners\, shopping malls\, parks\, etc.His strategy paid off. Not only did Astronomy Day go over with a bang\, not only did the public find out about the astronomy club\, they found out about future observatory open houses. Since the public got a chance to look through a portable telescope\, they were hooked. They wanted to see what went on at the bigger telescopes\, so they turned out in droves at the next observatory open house. \nFor additional information\, visit the Astronomical League’s website at https://www.astroleague.org/astronomyday/facts \n			\n				\n				\n				\n				\n				Schedule of Events\n1:00PM- Eagle Lake Observatory opens for solar viewing and other day time objects \n1:30PM- Sarah Devine – Solar Eclipses: What\, When\, and How      Get ready for two upcoming solar eclipses! Annular and Total. Through hands-on activities\, we’ll learn the what\, when and how of solar eclipses. Bring your questions and get ready to have some Sun-sational fun. \nBio: Sarah Devine has loved astronomy since before she can remember. Her childhood dream job was to be an astronaut. Her love for all things space has allowed her to teach astronomy for over 10 years in multiple settings. From museums and planetariums to community college to 4-H\, talking about astronomy and learning with others of all ages is her passion. She’s traveled to major international observatories and has fond memories of traveling to the 2017 total solar eclipse here in the U.S.A. \n2:30- Nadia Abuisnaineh – Topic: Psyche: A Trip to an Asteroid!   The Psyche Mission\, set to launch on October 5th\, 2023\, is a unique opportunity to study a metal rich asteroid that’s orbiting our Sun between Mars and Jupiter. With over a million asteroids orbiting in the asteroid belt\, what makes Psyche an asteroid worth visiting? Get an inside peak at what NASA is planning for this exciting new and upcoming mission! \nBio:  Nadia was born and raised in Minneapolis\, Minnesota. For as long as she can remember\, she always had a deep fascination with the universe. She was one of those kids in school that knew what she wanted to study in college at a very young age\, and that never changed\, even as she got older. Her love and enthusiasm for math and science allowed her to pursue a Bachelors of Science Degree in Astrophysics from the University of Minnesota. After graduating in 2011\, Nadia dedicated her time and talents to multiple community organizations serving the youth and those in need\, another promoting Islamic awareness and education\, and an online Islamic University. In 2019\, Nadia became a NASA/JPL Solar System Ambassador\, where she joined a nationwide team of volunteers that speak to their communities about space and space exploration missions. Soon after\, she worked at the Bell Museum\, and helped launch their annual Statewide Star Party.  She currently resides in Fridley\, Minnesota\, with her husband and three kids. She spends most of her time teaching her son and daughters how to navigate the world around them. She enjoys watching documentaries\, walking around the state’s many lakes\, swimming\, and stargazing. \n3:30- Colin Kilbane  Topic: Solar System Tour  Come on and take a tour of our amazing solar system. Go on a trip that will explore our own star\, the sun and our amazing planets. We will take a look at the myriad of marvelous moons\, some larger than the planet Mercury. Don’t worry we won’t forget Pluto \, Ceres\, and all of our dwarf planets. We will learn how we know what we know about our solar system using technology like telescopes and robotics. We will make our own planet that you will get to take home and hang up at home to remind you of how amazing our solar system is. \nBio: Colin Kilbane has been sharing his STEM (Science\, Technology\, Engineering\, and Math) fun for almost 30 years now. He started making slime and setting off fire alarms with chemistry outreach at Kansas State and the University of Minnesota. A chemist and biochemist by training\, he ended up moving on to share his passion for STEM and making things go boom as the Senior Mad Scientist and Operations Director for Mad Science of MN for more than a decade before he made his move to the high school classroom. He has taught chemistry\, physical science\, robotics\, makerspace and physics for the last ten years and does STEM on the side. This year\, he started up Gopher STEAM. Gopher STEAM can add some STEAM (Science\, Technology\, Engineering\, ART! and math) to any event for any age\, preschool on up. Gopher STEAM offers fantastically fun interactive shows\, activity tables\, birthday parties\, scouting programs\, classes and now summer camps. Check out more at Gophersteam.com \n5:00PM- Dinner break \n7:00PM- Laura Hammerbeck – The Northern Lights – dancing lights in the sky that have captivated people for millennia. What are they? When can I see them? Where? Treat yourself to a dazzling light show as you learn about the science of this spectacular phenomenon\, and why it has enchanted us throughout the ages. \nBio: Laura is a motivational and inspirational speaker. With over 20 years of teaching and communication experience\, she presents solid information in an enthusiastic yet relaxed manner\, with an ounce of humor on the side. Laura brings focus and energy to her audience.  An amateur astronomer and space junkie\, she is eager to share space exploration and study\, as well as all its intriguing ideas with people of all ages. \n \n \n8:00PM- Door prize drawing. Must be present to win! \n9:00 PM– Guided Laser Light Constellation Tour with Brad Nasset – MAS Member. \n			\n				\n				\n				\n				\n				Public star parties are open to all\, but please review the Star Party Guidelines if you have not been to a public event before. \nAdditional information as well as directions can be found on the Eagle Lake Observatory web page. \nEagle Lake Observatory44.8103 -93.9397 \nonaninfo@mnastro.org \n			\n				\n				\n				\n				\n				\n				\n				\n					\n				\n				\n					\n\n  \n\n\n\n Fill in this form to make an inquiry about our Public Star Parties at ELO.  \n\n\n\n Your name (required):\n     \n\n Your email (required):\n     \n\n Your phone:\n     \n\n ELO Event date (required):  \n\n Let us know if you have any questions or how we could help you! (required):
URL:https://www.mnastro.org/event/2023-fall-astronomy-day-at-eagle-lake-observatory/
LOCATION:Eagle Lake Observatory\, 10775 County Road 33\, Norwood Young America\, MN\, 55397\, United States
CATEGORIES:public,Public Star Party
ATTACH;FMTTYPE=image/png:https://www.mnastro.org/wp-content/uploads/2021/04/astronomy-day-logo.png
GEO:44.8103;-93.9397
X-APPLE-STRUCTURED-LOCATION;VALUE=URI;X-ADDRESS=Eagle Lake Observatory 10775 County Road 33 Norwood Young America MN 55397 United States;X-APPLE-RADIUS=500;X-TITLE=10775 County Road 33:geo:-93.9397,44.8103
END:VEVENT
END:VCALENDAR