BEGIN:VCALENDAR
VERSION:2.0
PRODID:-//Minnesota Astronomical Society - ECPv6.15.20//NONSGML v1.0//EN
CALSCALE:GREGORIAN
METHOD:PUBLISH
X-ORIGINAL-URL:https://www.mnastro.org
X-WR-CALDESC:Events for Minnesota Astronomical Society
REFRESH-INTERVAL;VALUE=DURATION:PT1H
X-Robots-Tag:noindex
X-PUBLISHED-TTL:PT1H
BEGIN:VTIMEZONE
TZID:America/Chicago
BEGIN:DAYLIGHT
TZOFFSETFROM:-0600
TZOFFSETTO:-0500
TZNAME:CDT
DTSTART:20220313T080000
END:DAYLIGHT
BEGIN:STANDARD
TZOFFSETFROM:-0500
TZOFFSETTO:-0600
TZNAME:CST
DTSTART:20221106T070000
END:STANDARD
BEGIN:DAYLIGHT
TZOFFSETFROM:-0600
TZOFFSETTO:-0500
TZNAME:CDT
DTSTART:20230312T080000
END:DAYLIGHT
BEGIN:STANDARD
TZOFFSETFROM:-0500
TZOFFSETTO:-0600
TZNAME:CST
DTSTART:20231105T070000
END:STANDARD
BEGIN:DAYLIGHT
TZOFFSETFROM:-0600
TZOFFSETTO:-0500
TZNAME:CDT
DTSTART:20240310T080000
END:DAYLIGHT
BEGIN:STANDARD
TZOFFSETFROM:-0500
TZOFFSETTO:-0600
TZNAME:CST
DTSTART:20241103T070000
END:STANDARD
END:VTIMEZONE
BEGIN:VEVENT
DTSTART;TZID=America/Chicago:20231002T180000
DTEND;TZID=America/Chicago:20231002T200000
DTSTAMP:20260420T110036
CREATED:20230912T131436Z
LAST-MODIFIED:20230912T131937Z
UID:10000273-1696269600-1696276800@www.mnastro.org
SUMMARY:New Member Orientation Meeting
DESCRIPTION:​Rebecca Messer will be holding an in-person MAS Member Orientation Meeting on Monday October 2nd. \nAny new (or old) members\, or those considering joining the MAS are invited to meet us from 6:00pm to 8:00pm on Monday October 2nd in the meeting room of the Wescott Library\, 1340 Wescott Road\, Eagan\, MN 55123. If you need information from the library\, their number is 651-450-2900. \nIn this approximately two hour meeting we will introduce the leadership of the MAS\, discuss public and member star parties\, provide a look at all our observing sites\, discuss all the means of communications within the Society\, and provide an overall description of all the benefits of membership in the MAS. \nWe look forward to seeing you! \nRebecca Messer \nMAS Membership Coordinator
URL:https://www.mnastro.org/event/new-member-orientation-meeting/
LOCATION:Wescott Library – Eagan\, 1340 Wescott Road\, Eagan\, MN\, 55123
CATEGORIES:public
END:VEVENT
BEGIN:VEVENT
DTSTART;TZID=America/Chicago:20231005T190000
DTEND;TZID=America/Chicago:20231005T210000
DTSTAMP:20260420T110036
CREATED:20230321T205700Z
LAST-MODIFIED:20231005T170337Z
UID:10000193-1696532400-1696539600@www.mnastro.org
SUMMARY:Monthly MAS Meeting - Featured Speaker Ron Schmit & Dave Falkner
DESCRIPTION:The MAS will be hosting a hybrid in-person & ZOOM Monthly Meeting.  MAS meetings are free and open to the public. JOIN US! \nFeatured Speaker: Ron Schmit & Dave Falkner\nTopic: Eclipse Road Trip\nCOVID-19 PROTOCOL:  Masks are welcome\, but not required at the Monthly Meeting.  Reminder if you are feeling ill or have been around someone who has been ill\, PLEASE STAY HOME!! \nMeeting Location:AŊPÉTU TÉČA Education Center (formerly the Fairview Community Center)1910 County Road B WestRoseville\, Minnesota 55113 \n			\n			\n				\n				\n				\n				\n			\n				\n				\n				\n				\n				\n				\n				\n				\n				\n				\n				The hybrid meetings will be recorded on ZOOM\, and post-edited for publication after a few days on the MAS YouTube Channel. \nThis meeting will be held online using Zoom using the following URL:  https://us06web.zoom.us/j/81474216297?pwd=aPa0S0mHr7rCX6oSAXE4hfQRHT5Wda.1 \nYou can probably hear best with a headset but your computer’s speaker and microphone will also work. \nDialing-in with a phone: \n\nMeeting ID: 814 7421 6297\nPasscode: 706200\nNumber: +1 312 626 6799 US (Chicago)\n\nIn order to ensure the most success we are asking everyone to follow a couple of rules: \n\nDon’t turn on your camera – it sucks up bandwidth and we really don’t need to see you.\nKeep your microphone muted until you are prompted during a question and answer session during the presentation. This will cut down background noise substantially.\nYou can request to ask a question in the chat area of the Meet and wait to be prompted by the moderator.\n\nWe hope you can join us.Clear skies! \n			\n			\n				\n				\n				\n				\n			\n				\n				\n				\n				\n				\n				\n				\n				\n				\n				\n				Fill out this form to be added to out ‘Weekly Happenings’ email newsletter!\n			\n				\n				\n				\n				\n				\n				\n				\n					\n				\n				\n					\n\n  \n\n\n\n Your name:\n     \n\n Your email:
URL:https://www.mnastro.org/event/monthly-mas-meeting-featured-speaker-tbd-5/
LOCATION:MAS Hybrid Monthly Meeting at AŊPÉTU TÉČA Education Center\, 1910 County Road B West\, Roseville\, MN\, 55113\, United States
CATEGORIES:Monthly Meeting,public
END:VEVENT
BEGIN:VEVENT
DTSTART;TZID=America/Chicago:20231006T180000
DTEND;TZID=America/Chicago:20231008T090000
DTSTAMP:20260420T110036
CREATED:20221113T203047Z
LAST-MODIFIED:20231020T131205Z
UID:10000207-1696615200-1696755600@www.mnastro.org
SUMMARY:MAS LLCC Star Party Weekend
DESCRIPTION:MAS Star Party Member Weekend\nUnlike other MAS star party sites\, the nature of the relationship between the MAS and the LLCC requirements affects access by both members and the general public. Specifically: \n\nOther than the Northern Nights Star Fest\, Events held at LLCC are not open to the public. Only MAS members and their immediate family members are authorized to attend scheduled events.\nThe MAS does not call a star party “on” or “off” for any particular evening or weekend – it is up to the individual members to use the weather resources available and decide if it is worth making the trip.  Check the MAS Forum to see if others are going or not going \nThe site is not available for mid-week observing by members.\n\nCheck the MAS forum – ‘Long Lake Conservation Discussions’ topic and state that you intend to go to LLCC for the designated weekend.  The LLCC committee will notify LLCC management of member intentions and designate bunk rooms available for use (typically in the Marcum House). \nLLCC star parties may be available for Friday and Saturday evenings\, weather permitting. \nAdditional information on using the Long Lake Conservation Center\, including map and directions\, can be found on the LLCC page.
URL:https://www.mnastro.org/event/llcc-star-party-weekend/2023-10-06/
LOCATION:Long Lake Conservation Center\, 28952 438th Lane\, Palisade\, 56469\, United States
CATEGORIES:member,Member Star Party
GEO:46.647;-93.465
X-APPLE-STRUCTURED-LOCATION;VALUE=URI;X-ADDRESS=Long Lake Conservation Center 28952 438th Lane Palisade 56469 United States;X-APPLE-RADIUS=500;X-TITLE=28952 438th Lane:geo:-93.465,46.647
END:VEVENT
BEGIN:VEVENT
DTSTART;TZID=America/Chicago:20231007T190000
DTEND;TZID=America/Chicago:20231007T220000
DTSTAMP:20260420T110036
CREATED:20221111T183948Z
LAST-MODIFIED:20230315T204920Z
UID:10000180-1696705200-1696716000@www.mnastro.org
SUMMARY:ELO Public Star Party
DESCRIPTION:The Minnesota Astronomical Society (MAS) host Public Star Parties approximately every other Saturday night\, from March to November\, at the Eagle Lake Observatory. Public star parties are open to all\, you do not need to be a MAS member to attend. Typically there is no fee to attend a star party\, however donations are greatly appreciated. \nDuring a Public Star Party\, we use our array of telescope platforms to show you the wonders of the night sky. Our primary goal during a star party is to view stars\, star clusters\, galaxies\, nebula\, planets and maybe a comet or two\, all observable through our telescopes. There may also be a presentation or Q&A session at a public event. Public star parties typically run from 7:00-10:00 pm\, although we tend to stay later during the summer months as the summer sunset is later. Note that the Park is open daily from 6:00 am to 10:00 pm. The main gate to the park entrance automatically closes at 10:00 pm\, so please plan to arrive before then. \n			\n			\n				\n				\n				\n				\n			\n				\n				\n				\n				\n				\n				\n				\n				\n				\n				\n				Public Star Parties are typically all-weather events. Even if it’s cloudy someone will open the observatory for a tour\, give a presentation or answer any astronomy questions you may have. If this is your first star party\, or it’s been a while since you’ve been to one\, please review the Public Star Party Guidelines.  Note the complete list of public events at ELO. or download/print a schedule from the MAS Handouts archive. \nAnnually\, we also host all day events for the Spring and Fall Astronomy Day and the annual Camping with the Stars event.  Additionally\, we may schedule special events throughout the year for a unique astronomical happenings such as an eclipses\, planetary oppositions\, conjunctions or comets. \n*Other than our Camping with the Stars (CWTS) event\, registration is not required to attend an event. CWTS is also the only event there is a fee to attend\, as it is coordinated through the Baylor Park offices. Call the Baylor Park Office at 952-466-5255 for CWTS registration and camping information. \nAdditional information as well as directions can be found on the Eagle Lake Observatory web page. \nEagle Lake Observatory44.8103 -93.9397 \nMerle Hiltner onaninfo@mnastro.org \n			\n			\n				\n				\n				\n				\n			\n				\n				\n				\n				\n				\n				\n				\n				\n				\n				\n				\n				\n				\n					\n				\n				\n					\n\n  \n\n\n\n Fill in this form to make an inquiry about our Public Star Parties at ELO.  \n\n\n\n Your name (required):\n     \n\n Your email (required):\n     \n\n Your phone:\n     \n\n ELO Event date (required):  \n\n Let us know if you have any questions or how we could help you! (required):
URL:https://www.mnastro.org/event/2022-elo-public-star-party/2023-10-07/
LOCATION:Eagle Lake Observatory\, 10775 County Road 33\, Norwood Young America\, MN\, 55397\, United States
CATEGORIES:public,Public Star Party
GEO:44.8103;-93.9397
X-APPLE-STRUCTURED-LOCATION;VALUE=URI;X-ADDRESS=Eagle Lake Observatory 10775 County Road 33 Norwood Young America MN 55397 United States;X-APPLE-RADIUS=500;X-TITLE=10775 County Road 33:geo:-93.9397,44.8103
END:VEVENT
BEGIN:VEVENT
DTSTART;TZID=America/Chicago:20231013T180000
DTEND;TZID=America/Chicago:20231015T090000
DTSTAMP:20260420T110036
CREATED:20221113T203047Z
LAST-MODIFIED:20231020T131205Z
UID:10000208-1697220000-1697360400@www.mnastro.org
SUMMARY:MAS LLCC Star Party Weekend
DESCRIPTION:MAS Star Party Member Weekend\nUnlike other MAS star party sites\, the nature of the relationship between the MAS and the LLCC requirements affects access by both members and the general public. Specifically: \n\nOther than the Northern Nights Star Fest\, Events held at LLCC are not open to the public. Only MAS members and their immediate family members are authorized to attend scheduled events.\nThe MAS does not call a star party “on” or “off” for any particular evening or weekend – it is up to the individual members to use the weather resources available and decide if it is worth making the trip.  Check the MAS Forum to see if others are going or not going \nThe site is not available for mid-week observing by members.\n\nCheck the MAS forum – ‘Long Lake Conservation Discussions’ topic and state that you intend to go to LLCC for the designated weekend.  The LLCC committee will notify LLCC management of member intentions and designate bunk rooms available for use (typically in the Marcum House). \nLLCC star parties may be available for Friday and Saturday evenings\, weather permitting. \nAdditional information on using the Long Lake Conservation Center\, including map and directions\, can be found on the LLCC page.
URL:https://www.mnastro.org/event/llcc-star-party-weekend/2023-10-13/
LOCATION:Long Lake Conservation Center\, 28952 438th Lane\, Palisade\, 56469\, United States
CATEGORIES:member,Member Star Party
GEO:46.647;-93.465
X-APPLE-STRUCTURED-LOCATION;VALUE=URI;X-ADDRESS=Long Lake Conservation Center 28952 438th Lane Palisade 56469 United States;X-APPLE-RADIUS=500;X-TITLE=28952 438th Lane:geo:-93.465,46.647
END:VEVENT
BEGIN:VEVENT
DTSTART;TZID=America/Chicago:20231013T190000
DTEND;TZID=America/Chicago:20231015T050000
DTSTAMP:20260420T110036
CREATED:20221128T190025Z
LAST-MODIFIED:20221128T190029Z
UID:10000211-1697223600-1697346000@www.mnastro.org
SUMMARY:Mini Messier Marathon
DESCRIPTION:Mini Messier Marathon\nThe Mini Messier Marathon is an attempt to find as many Messier objects as possible during one night – but in the fall. The Messier catalogue was compiled by French astronomer Charles Messier during the late 18th century and consists of 110 relatively bright deep sky objects (galaxies\, nebulae\, and star clusters). \nThe first MAS Messier Marathon was held on March 13\, 1999 (Apr Gemini\, pg 4)\, and has been held annually at the Cherry Grove Observatory. The marathon is scheduled for the new moon weekend nearest the spring equinox with Friday being the primary night\, and Saturday being the backup night. \nAs with all Cherry Grove events\, the marathon is held only if the skies are clear and will be CANCELLED IF CLOUDY. See the MAS home page or Forum for the latest information regarding the star party status.
URL:https://www.mnastro.org/event/mini-messier-marathon/
LOCATION:Cherry Grove Observatory\, 8485 520th Street\, Kenyon\, MN\, 55946\, United States
CATEGORIES:member,Member Star Party
ATTACH;FMTTYPE=image/jpeg:https://www.mnastro.org/wp-content/uploads/2022/02/messier-marathon.jpeg
GEO:44.1971;-92.8623
X-APPLE-STRUCTURED-LOCATION;VALUE=URI;X-ADDRESS=Cherry Grove Observatory 8485 520th Street Kenyon MN 55946 United States;X-APPLE-RADIUS=500;X-TITLE=8485 520th Street:geo:-92.8623,44.1971
END:VEVENT
BEGIN:VEVENT
DTSTART;TZID=America/Chicago:20231014T100000
DTEND;TZID=America/Chicago:20231014T140000
DTSTAMP:20260420T110036
CREATED:20221111T194527Z
LAST-MODIFIED:20231013T173331Z
UID:10000183-1697277600-1697292000@www.mnastro.org
SUMMARY:Special Event at ELO - Partial Solar Eclipse Cancelled
DESCRIPTION:Special Event public star party on October 14\, 2023 for the partial annular solar eclipse. Event starts at 10:00am \nEvent CANCELLED due to the weather.\nOn Oct. 14\, 2023\, an annular solar eclipse will cross North\, Central\, and South America. This eclipse will be visible for millions of people in the Western Hemisphere.  In Minnesota\, we will see this as a partial solar eclipse – will approximately 45% of the disc of the sun covered up by the moon. \nThe MAS will provide safe viewing of the eclipse through our array of telescopes. \nNEVER DIRECTLY LOOK AT THE SUN WITHOUT APPROPRIATE FILTERS – EVEN DURING THE ECLIPSE! \nThe Minnesota Astronomical Society (MAS) host Public Star Parties approximately every other Saturday night\, from March to November\, at the Eagle Lake Observatory. Public star parties are open to all\, you do not need to be a MAS member to attend. Typically there is no fee to attend a star party\, however donations are greatly appreciated. \nNote that the Park is open daily from 6:00 am to 10:00 pm. The main gate to the park entrance automatically closes at 10:00 pm\, so please plan to arrive before then. \n			\n			\n				\n				\n				\n				\n			\n				\n				\n				\n				\n				\n				\n				\n				\n				\n				\n				This event will be CANCELLED if cloudy. If this is your first star party\, or it’s been a while since you’ve been to one\, please review the Public Star Party Guidelines.  Note the complete list of public events at ELO. \nAnnually\, we also host all day events for the Spring and Fall Astronomy Day and the annual Camping with the Stars event.  Additionally\, we may schedule special events throughout the year for a unique astronomical happenings such as an eclipses\, planetary oppositions\, conjunctions or comets. \n*Other than our Camping with the Stars (CWTS) event\, registration is not required to attend an event. CWTS is also the only event there is a fee to attend\, as it is coordinated through the Baylor Park offices. Call the Baylor Park Office at 952-466-5255 for CWTS registration and camping information. \nAdditional information as well as directions can be found on the Eagle Lake Observatory web page. \nEagle Lake Observatory\n44.8103 -93.9397\n			\n			\n				\n				\n				\n				\n			\n				\n				\n				\n				\n				\n				\n				\n				\n				\n				\n				\n				\n				\n					\n				\n				\n					\n\n  \n\n\n\n Fill in this form to make an inquiry about our Public Star Parties at ELO.  \n\n\n\n Your name (required):\n     \n\n Your email (required):\n     \n\n Your phone:\n     \n\n ELO Event date (required):  \n\n Let us know if you have any questions or how we could help you! (required):
URL:https://www.mnastro.org/event/special-event-at-elo-partial-solar-eclipse/
LOCATION:Eagle Lake Observatory\, 10775 County Road 33\, Norwood Young America\, MN\, 55397\, United States
CATEGORIES:public,Public Star Party
GEO:44.8103;-93.9397
X-APPLE-STRUCTURED-LOCATION;VALUE=URI;X-ADDRESS=Eagle Lake Observatory 10775 County Road 33 Norwood Young America MN 55397 United States;X-APPLE-RADIUS=500;X-TITLE=10775 County Road 33:geo:-93.9397,44.8103
END:VEVENT
BEGIN:VEVENT
DTSTART;TZID=America/Chicago:20231021T173000
DTEND;TZID=America/Chicago:20231021T230000
DTSTAMP:20260420T110036
CREATED:20221227T190624Z
LAST-MODIFIED:20230908T001234Z
UID:10000240-1697909400-1697929200@www.mnastro.org
SUMMARY:BSIG Beginner's Observing Session at Metcalf Field
DESCRIPTION:MAS Metcalf Observing Field \nThere is no charge to attend a beginner event\, and you do not need to be an MAS member to attend — everyone is welcome!! The purpose is to help beginners learn the night sky\, and how to set up and use a telescope. Volunteers from the MAS will be on hand to answer your questions. \nIf you have a telescope\, feel free to bring it. If you need help with learning how to set up and use it\, we are happy to help! \n			\n			\n				\n				\n				\n				\n			\n				\n				\n				\n				\n				\n				\n				\n				\n				\n				\n				If you haven’t been to Metcalf Field\, it can be a little difficult to locate the entrance. So please arrive in daylight. \nThe BSIG Coordinator will make the final Go/No Go call on the evening of Thursday before the event\, based on the weather forecast. If Friday is more favorable\, then the session may be moved to Friday. \nPlease monitor the MAS BSIG Forum for latest updates. \nIf you’d like to volunteer to help out at this and future Beginner group events\, please let me know. \n			\n			\n				\n				\n				\n				\n			\n				\n				\n				\n				\n				\n				\n				\n				\n				\n				\n				\n				\n				\n					\n				\n				\n					\n\n  \n\n\n\n Fill in this form to sign-up for BSIG events only.  \n\nNote: Public Star Parties at ELO do not require sign-up. \n\n\n Your name (required):\n     \n\n Your email (required):\n     \n\n Your phone:\n     \n\n BSIG Event date (required):  \n\n Number people attending:  \n\n Let us know if you have any questions or how we could help you! (required):
URL:https://www.mnastro.org/event/bsig-beginners-observing-session-at-metcalf-field/2023-10-21/
LOCATION:Metcalf Field\, 795 Indian Trail S\, Afton\, MN\, 55001\, United States
CATEGORIES:Beginner's Observing Session,BSIG,public
GEO:44.93734;-92.82157
X-APPLE-STRUCTURED-LOCATION;VALUE=URI;X-ADDRESS=Metcalf Field 795 Indian Trail S Afton MN 55001 United States;X-APPLE-RADIUS=500;X-TITLE=795 Indian Trail S:geo:-92.82157,44.93734
END:VEVENT
BEGIN:VEVENT
DTSTART;TZID=America/Chicago:20231021T190000
DTEND;TZID=America/Chicago:20231021T220000
DTSTAMP:20260420T110036
CREATED:20230210T190530Z
LAST-MODIFIED:20231002T184334Z
UID:10000247-1697914800-1697925600@www.mnastro.org
SUMMARY:Public Star Party at Cedar Creek - October 2023
DESCRIPTION:October 2023 Star Party Program\nCome and learn more about the night skies. Each star party starts with a brief presentation about astronomy. A number of telescopes will be available for night sky viewing after the program\, weather dependent. NOTE: You do not need a telescope to attend. \nThis calendar will be updated with the latest schedule. \nDirections to Cedar Creek can be found on website.  Park near the Lindeman Lab Reception Hall.  The telescopes will be set up adjacent to the hall near the field. \n 
URL:https://www.mnastro.org/event/public-star-party-at-cedar-creek-october-2023/
LOCATION:Cedar Creek Ecosystem Science Reserve\, 2660 Fawn Lake Drive NE55005-9718\, Bethel\, MN\, 55005-9718\, United States
CATEGORIES:public,Public Star Party
END:VEVENT
BEGIN:VEVENT
DTSTART;TZID=America/Chicago:20231021T190000
DTEND;TZID=America/Chicago:20231021T220000
DTSTAMP:20260420T110036
CREATED:20231018T145200Z
LAST-MODIFIED:20231018T145623Z
UID:10000181-1697914800-1697925600@www.mnastro.org
SUMMARY:ELO Public Star Party
DESCRIPTION:The Minnesota Astronomical Society (MAS) host Public Star Parties approximately every other Saturday night\, from March to November\, at the Eagle Lake Observatory. Public star parties are open to all\, you do not need to be a MAS member to attend. Typically there is no fee to attend a star party\, however donations are greatly appreciated. \nDuring a Public Star Party\, we use our array of telescope platforms to show you the wonders of the night sky. Our primary goal during a star party is to view stars\, star clusters\, galaxies\, nebula\, planets and maybe a comet or two\, all observable through our telescopes. There may also be a presentation or Q&A session at a public event. Public star parties typically run from 7:00-10:00 pm\, although we tend to stay later during the summer months as the summer sunset is later. Note that the Park is open daily from 6:00 am to 10:00 pm. The main gate to the park entrance automatically closes at 10:00 pm\, so please plan to arrive before then.\n			\n			\n				\n				\n				\n				\n			\n				\n				\n				\n				\n				\n				\n				\n				\n				\n				\n				International Observe the Moon Night 2023\nThis annual worldwide public event encourages observation\, appreciation and understanding of our Moon and its connection to space science\, exploration\, and human culture. \nJoin NASA Solar System Ambassador Laura Hammerbeck on an exploration of our nighttime companion. A bit of history\, a bit of future\, and a whole lot of things to see when moongazing. There’s a whole lunar world to explore! \n			\n				\n				\n				\n				\n				Public Star Parties are typically all-weather events. Even if it’s cloudy someone will open the observatory for a tour\, give a presentation or answer any astronomy questions you may have. If this is your first star party\, or it’s been a while since you’ve been to one\, please review the Public Star Party Guidelines.  Note the complete list of public events at ELO. or download/print a schedule from the MAS Handouts archive. \nAnnually\, we also host all day events for the Spring and Fall Astronomy Day and the annual Camping with the Stars event.  Additionally\, we may schedule special events throughout the year for a unique astronomical happenings such as an eclipses\, planetary oppositions\, conjunctions or comets. \n*Other than our Camping with the Stars (CWTS) event\, registration is not required to attend an event. CWTS is also the only event there is a fee to attend\, as it is coordinated through the Baylor Park offices. Call the Baylor Park Office at 952-466-5255 for CWTS registration and camping information. \nAdditional information as well as directions can be found on the Eagle Lake Observatory web page. \nEagle Lake Observatory44.8103 -93.9397 \nonaninfo@mnastro.org \n			\n			\n				\n				\n				\n				\n			\n				\n				\n				\n				\n				\n				\n				\n				\n				\n				\n				\n				\n				\n					\n				\n				\n					\n\n  \n\n\n\n Fill in this form to make an inquiry about our Public Star Parties at ELO.  \n\n\n\n Your name (required):\n     \n\n Your email (required):\n     \n\n Your phone:\n     \n\n ELO Event date (required):  \n\n Let us know if you have any questions or how we could help you! (required):
URL:https://www.mnastro.org/event/elo-public-star-party/
LOCATION:Eagle Lake Observatory\, 10775 County Road 33\, Norwood Young America\, MN\, 55397\, United States
CATEGORIES:public,Public Star Party
GEO:44.8103;-93.9397
X-APPLE-STRUCTURED-LOCATION;VALUE=URI;X-ADDRESS=Eagle Lake Observatory 10775 County Road 33 Norwood Young America MN 55397 United States;X-APPLE-RADIUS=500;X-TITLE=10775 County Road 33:geo:-93.9397,44.8103
END:VEVENT
END:VCALENDAR