BEGIN:VCALENDAR
VERSION:2.0
PRODID:-//Minnesota Astronomical Society - ECPv6.15.20//NONSGML v1.0//EN
CALSCALE:GREGORIAN
METHOD:PUBLISH
X-ORIGINAL-URL:https://www.mnastro.org
X-WR-CALDESC:Events for Minnesota Astronomical Society
REFRESH-INTERVAL;VALUE=DURATION:PT1H
X-Robots-Tag:noindex
X-PUBLISHED-TTL:PT1H
BEGIN:VTIMEZONE
TZID:America/Chicago
BEGIN:DAYLIGHT
TZOFFSETFROM:-0600
TZOFFSETTO:-0500
TZNAME:CDT
DTSTART:20220313T080000
END:DAYLIGHT
BEGIN:STANDARD
TZOFFSETFROM:-0500
TZOFFSETTO:-0600
TZNAME:CST
DTSTART:20221106T070000
END:STANDARD
BEGIN:DAYLIGHT
TZOFFSETFROM:-0600
TZOFFSETTO:-0500
TZNAME:CDT
DTSTART:20230312T080000
END:DAYLIGHT
BEGIN:STANDARD
TZOFFSETFROM:-0500
TZOFFSETTO:-0600
TZNAME:CST
DTSTART:20231105T070000
END:STANDARD
BEGIN:DAYLIGHT
TZOFFSETFROM:-0600
TZOFFSETTO:-0500
TZNAME:CDT
DTSTART:20240310T080000
END:DAYLIGHT
BEGIN:STANDARD
TZOFFSETFROM:-0500
TZOFFSETTO:-0600
TZNAME:CST
DTSTART:20241103T070000
END:STANDARD
END:VTIMEZONE
BEGIN:VEVENT
DTSTART;TZID=America/Chicago:20231207T190000
DTEND;TZID=America/Chicago:20231207T220000
DTSTAMP:20260420T073131
CREATED:20230321T205931Z
LAST-MODIFIED:20240205T175819Z
UID:10000195-1701975600-1701986400@www.mnastro.org
SUMMARY:Monthly MAS Meeting - MAS Board Elections + Members Aurora & Eclipse Photos
DESCRIPTION:The MAS will be hosting a hybrid in-person & ZOOM Monthly Meeting.  MAS meetings are free and open to the public. JOIN US! \nTopic: MAS Board Elections + Members Aurora & Eclipse Photos\nCOVID-19 PROTOCOL:  Masks are welcome\, but not required at the Monthly Meeting.  Reminder if you are feeling ill or have been around someone who has been ill\, PLEASE STAY HOME!! \nMeeting Location:AŊPÉTU TÉČA Education Center (formerly the Fairview Community Center)1910 County Road B WestRoseville\, Minnesota 55113 \n			\n			\n				\n				\n				\n				\n			\n				\n				\n				\n				\n				\n				\n				\n				\n				\n				\n				The hybrid meetings will be recorded on ZOOM\, and post-edited for publication after a few days on the MAS YouTube Channel. \nSince this is an official MAS business meeting\, registration will be required.  This meeting will be held online using Zoom using the following URL: Zoom LINK \nYou can probably hear best with a headset but your computer’s speaker and microphone will also work. \nDialing-in with a phone: \n\nMeeting ID: 875 4049 2071\nPasscode: 897150\nNumber: +1 312 626 6799 US (Chicago)\n\nIn order to ensure the most success we are asking everyone to follow a couple of rules: \n\nDon’t turn on your camera – it sucks up bandwidth and we really don’t need to see you.\nKeep your microphone muted until you are prompted during a question and answer session during the presentation. This will cut down background noise substantially.\nYou can request to ask a question in the chat area of the Meet and wait to be prompted by the moderator.\n\nWe hope you can join us.Clear skies! \n			\n			\n				\n				\n				\n				\n			\n				\n				\n				\n				\n				\n				\n				\n				\n				\n				\n				Fill out this form to be added to out ‘Weekly Happenings’ email newsletter!\n			\n				\n				\n				\n				\n				\n				\n				\n					\n				\n				\n					\n\n  \n\n\n\n Your name:\n     \n\n Your email:
URL:https://www.mnastro.org/event/monthly-mas-meeting-featured-speaker-tbd-7/
LOCATION:MAS Hybrid Monthly Meeting at AŊPÉTU TÉČA Education Center\, 1910 County Road B West\, Roseville\, MN\, 55113\, United States
CATEGORIES:Monthly Meeting,public
END:VEVENT
BEGIN:VEVENT
DTSTART;TZID=America/Chicago:20231216T130000
DTEND;TZID=America/Chicago:20231216T150000
DTSTAMP:20260420T073131
CREATED:20231026T183054Z
LAST-MODIFIED:20231206T183204Z
UID:10000269-1702731600-1702738800@www.mnastro.org
SUMMARY:BSIG Winter Presentation Featuring Bob King
DESCRIPTION: The MAS invites everyone to the virtual Beginner’s Group Presentation using ZOOM.. \nFeatured Speaker:   Bob KingTopic: “Evenings at the Cosmic Smorgasbord” \nSynopsis: \n“How far is the closest black hole? What’s a bipolar nebula? What color are Saturn’s auroras? We’ll explore these questions and more as we examine a selection of extraterrestrial morsels.” \nBob is a contributing editor at Sky & Telescope magazines and is extremely passionate about astronomy. He is an avid observer\, and loves to view the Northern Lights from outside of Duluth\, where he lives. \nVisit the B-SIG Discussion Forum for more information and any last minute changes. \nThis meeting will be held online using Zoom. If you would like to join us you will need use the following URL: \nZOOM LINK \nYou can probably hear best with a headset but your computer’s speaker and microphone will also work. \nDial-in Phone Number \nMeeting ID:      831 0925 4455Passcode:       657688 \n+1 312 626 6799 US (Chicago) \nIn order to ensure the most success we are asking everyone to follow a couple of rules: \n1. Don’t turn on your camera – it sucks up bandwidth and we really don’t need to see you.2. Keep your microphone muted until you are prompted during a question and answer session during the presentation. This will cut down background noise substantially.3. You can request to ask a question in the chat area in Zoom and wait to be prompted by the moderator. \nWe hope you can join us.Clear skies! \nSuresh SreenivasanMAS Beginner’s Coordinator
URL:https://www.mnastro.org/event/bsig-winter-presentation-featuring-bob-king/
LOCATION:Virtual Meeting Using Zoom
CATEGORIES:BSIG,BSIG Virtual Presentation,public
END:VEVENT
END:VCALENDAR