BEGIN:VCALENDAR
VERSION:2.0
PRODID:-//Minnesota Astronomical Society - ECPv6.15.20//NONSGML v1.0//EN
CALSCALE:GREGORIAN
METHOD:PUBLISH
X-ORIGINAL-URL:https://www.mnastro.org
X-WR-CALDESC:Events for Minnesota Astronomical Society
REFRESH-INTERVAL;VALUE=DURATION:PT1H
X-Robots-Tag:noindex
X-PUBLISHED-TTL:PT1H
BEGIN:VTIMEZONE
TZID:America/Chicago
BEGIN:DAYLIGHT
TZOFFSETFROM:-0600
TZOFFSETTO:-0500
TZNAME:CDT
DTSTART:20230312T080000
END:DAYLIGHT
BEGIN:STANDARD
TZOFFSETFROM:-0500
TZOFFSETTO:-0600
TZNAME:CST
DTSTART:20231105T070000
END:STANDARD
BEGIN:DAYLIGHT
TZOFFSETFROM:-0600
TZOFFSETTO:-0500
TZNAME:CDT
DTSTART:20240310T080000
END:DAYLIGHT
BEGIN:STANDARD
TZOFFSETFROM:-0500
TZOFFSETTO:-0600
TZNAME:CST
DTSTART:20241103T070000
END:STANDARD
BEGIN:DAYLIGHT
TZOFFSETFROM:-0600
TZOFFSETTO:-0500
TZNAME:CDT
DTSTART:20250309T080000
END:DAYLIGHT
BEGIN:STANDARD
TZOFFSETFROM:-0500
TZOFFSETTO:-0600
TZNAME:CST
DTSTART:20251102T070000
END:STANDARD
END:VTIMEZONE
BEGIN:VEVENT
DTSTART;TZID=America/Chicago:20240104T190000
DTEND;TZID=America/Chicago:20240104T210000
DTSTAMP:20260420T055702
CREATED:20240102T212755Z
LAST-MODIFIED:20240103T211816Z
UID:10000276-1704394800-1704402000@www.mnastro.org
SUMMARY:MAS Monthly Meeting - Prof. Robert Lysak
DESCRIPTION:The MAS will be hosting a hybrid in-person & ZOOM Monthly Meeting.  MAS meetings are free and open to the public. JOIN US! \nFeatured Speaker: Prof. Robert Lysak (Minnesota Institute of Astrophysics)\nTopic: Jupiter’s Aurora: New results from NASA’s Juno mission \nCOVID-19 PROTOCOL:  Masks are welcome\, but not required at the Monthly Meeting.  Reminder if you are feeling ill or have been around someone who has been ill\, PLEASE STAY HOME!! \nMeeting Location:\nAŊPÉTU TÉČA Education Center (formerly the Fairview Community Center)\n1910 County Road B West\nRoseville\, Minnesota 55113\n			\n			\n				\n				\n				\n				\n			\n				\n				\n				\n				\n				\n				\n				\n				\n				\n				\n				The hybrid meetings will be recorded on ZOOM\, and post-edited for publication after a few days on the MAS YouTube Channel. \nThis meeting will be held online using Zoom using the following URL: Zoom LINK \nYou can probably hear best with a headset but your computer’s speaker and microphone will also work. \nDialing-in with a phone: \n\nMeeting ID: 874 2440 8482\nPasscode: 104983​\nNumber: +1 312 626 6799 US (Chicago)\n\nIn order to ensure the most success we are asking everyone to follow a couple of rules: \n\nDon’t turn on your camera – it sucks up bandwidth and we really don’t need to see you.\nKeep your microphone muted until you are prompted during a question and answer session during the presentation. This will cut down background noise substantially.\nYou can request to ask a question in the chat area of the Meet and wait to be prompted by the moderator.\n\nWe hope you can join us.Clear skies! \n			\n			\n				\n				\n				\n				\n			\n				\n				\n				\n				\n				\n				\n				\n				\n				\n				\n				Fill out this form to be added to out ‘Weekly Happenings’ email newsletter!\n			\n				\n				\n				\n				\n				\n				\n				\n					\n				\n				\n					\n\n  \n\n\n\n Your name:\n     \n\n Your email:
URL:https://www.mnastro.org/event/mas-monthly-meeting-2/
LOCATION:MAS Hybrid Monthly Meeting at AŊPÉTU TÉČA Education Center\, 1910 County Road B West\, Roseville\, MN\, 55113\, United States
CATEGORIES:Monthly Meeting,public
ATTACH;FMTTYPE=image/jpeg:https://www.mnastro.org/wp-content/uploads/2021/12/MAShybridMonthlyMeeting.jpg
END:VEVENT
BEGIN:VEVENT
DTSTART;TZID=America/Chicago:20240120T130000
DTEND;TZID=America/Chicago:20240120T150000
DTSTAMP:20260420T055702
CREATED:20231026T183845Z
LAST-MODIFIED:20240120T161032Z
UID:10000270-1705755600-1705762800@www.mnastro.org
SUMMARY:BSIG Winter Presentation Featuring Mike Shaw
DESCRIPTION:The MAS invites everyone to the virtual Beginner’s Group Presentation using ZOOM.. \nFeatured Speaker:   Mike ShawTopic: How to Plan\, Experience & Photograph the Total Solar Eclipse on April 8\, 2024 \nSynopsis:  Mike will give real-time demonstrations of creating your plan for photographing the eclipse using the Planit Pro app and Stellarium. He will also demonstrate how to edit your total solar eclipse images using Adobe Lightroom and Photoshop to help provide ideas for your totality projects. Mike will have on hand a variety of solar eclipse filters and other accessories for demonstration purposes. There will be ample time for in-depth topical discussions and to get all your total solar eclipse questions answered. \nLearn how to prepare for\, and safely experience\, the total solar eclipse on April 8\, 2024. \nPresentation highlights will include:• Eclipse fundamentals & resources• Eclipse safety & resources• Planning your trip to the path of totality (general)• Visual total solar eclipse experiences & observations• Eclipse Photography• Detailed photo planning with Planit Pro and Stellarium• Total solar eclipse image post-processing with Adobe Lightroom & Photoshop \nVisit the B-SIG Discussion Forum for more information and any last minute changes. \nThis meeting will be held online using Zoom. If you would like to join us you will need use the following URL: \nhttps://us06web.zoom.us/j/81177650669?pwd=9aHEPnQvrlf0hMbfH4hTXiycirjEQV.1  \nYou can probably hear best with a headset but your computer’s speaker and microphone will also work. \nDial-in Phone Number \nMeeting ID: Passcode:  \n+1 312 626 6799 US (Chicago) \nIn order to ensure the most success we are asking everyone to follow a couple of rules: \n1. Don’t turn on your camera – it sucks up bandwidth and we really don’t need to see you.2. Keep your microphone muted until you are prompted during a question and answer session during the presentation. This will cut down background noise substantially.3. You can request to ask a question in the chat area in Zoom and wait to be prompted by the moderator. \nWe hope you can join us.Clear skies! \nSuresh SreenivasanMAS Beginner’s Coordinator
URL:https://www.mnastro.org/event/bsig-winter-presentation-featuring-mike-shaw/
LOCATION:MN
CATEGORIES:BSIG,BSIG Virtual Presentation,public
END:VEVENT
END:VCALENDAR