BEGIN:VCALENDAR
VERSION:2.0
PRODID:-//Minnesota Astronomical Society - ECPv6.15.20//NONSGML v1.0//EN
CALSCALE:GREGORIAN
METHOD:PUBLISH
X-WR-CALNAME:Minnesota Astronomical Society
X-ORIGINAL-URL:https://www.mnastro.org
X-WR-CALDESC:Events for Minnesota Astronomical Society
REFRESH-INTERVAL;VALUE=DURATION:PT1H
X-Robots-Tag:noindex
X-PUBLISHED-TTL:PT1H
BEGIN:VTIMEZONE
TZID:America/Chicago
BEGIN:DAYLIGHT
TZOFFSETFROM:-0600
TZOFFSETTO:-0500
TZNAME:CDT
DTSTART:20230312T080000
END:DAYLIGHT
BEGIN:STANDARD
TZOFFSETFROM:-0500
TZOFFSETTO:-0600
TZNAME:CST
DTSTART:20231105T070000
END:STANDARD
BEGIN:DAYLIGHT
TZOFFSETFROM:-0600
TZOFFSETTO:-0500
TZNAME:CDT
DTSTART:20240310T080000
END:DAYLIGHT
BEGIN:STANDARD
TZOFFSETFROM:-0500
TZOFFSETTO:-0600
TZNAME:CST
DTSTART:20241103T070000
END:STANDARD
BEGIN:DAYLIGHT
TZOFFSETFROM:-0600
TZOFFSETTO:-0500
TZNAME:CDT
DTSTART:20250309T080000
END:DAYLIGHT
BEGIN:STANDARD
TZOFFSETFROM:-0500
TZOFFSETTO:-0600
TZNAME:CST
DTSTART:20251102T070000
END:STANDARD
END:VTIMEZONE
BEGIN:VEVENT
DTSTART;TZID=America/Chicago:20240404T190000
DTEND;TZID=America/Chicago:20240404T210000
DTSTAMP:20260420T012748
CREATED:20240102T213910Z
LAST-MODIFIED:20240402T041008Z
UID:10000279-1712257200-1712264400@www.mnastro.org
SUMMARY:MAS Monthly Meeting - Online Only
DESCRIPTION: Meeting Location: Online Only \n			\n			\n				\n				\n				\n				\n			\n				\n				\n				\n				\n				\n				\n				\n				\n				\n				\n				The hybrid meetings will be recorded on ZOOM\, and post-edited for publication after a few days on the MAS YouTube Channel. \nThis meeting will be held online using Zoom using the following URL: Zoom LINK \nYou can probably hear best with a headset but your computer’s speaker and microphone will also work. \n\nIn order to ensure the most success we are asking everyone to follow a couple of rules:\n\n\nDon’t turn on your camera – it sucks up bandwidth and we really don’t need to see you.\nKeep your microphone muted until you are prompted during a question and answer session during the presentation. This will cut down background noise substantially.\nYou can request to ask a question in the chat area of the Meet and wait to be prompted by the moderator.\n\nWe hope you can join us.Clear skies! \n			\n			\n				\n				\n				\n				\n			\n				\n				\n				\n				\n				\n				\n				\n				\n				\n				\n				Fill out this form to be added to out ‘Weekly Happenings’ email newsletter!\n			\n				\n				\n				\n				\n				\n				\n				\n					\n				\n				\n					\n\n  \n\n\n\n Your name:\n     \n\n Your email:
URL:https://www.mnastro.org/event/mas-monthly-meeting-5/
LOCATION:Virtual Meeting Using Zoom
CATEGORIES:Monthly Meeting,public
END:VEVENT
BEGIN:VEVENT
DTSTART;TZID=America/Chicago:20240408T080000
DTEND;TZID=America/Chicago:20240408T170000
DTSTAMP:20260420T012748
CREATED:20240311T172446Z
LAST-MODIFIED:20240709T200208Z
UID:10000370-1712563200-1712595600@www.mnastro.org
SUMMARY:2024 Solar Eclipse (Partial in Minnesota)
DESCRIPTION:The Minnesota Astronomical Society is not hosting a viewing event for the Partial Solar Eclipse\, because its members will be chasing totality in other parts of the country.\nHere is a list of other organizations and links to their viewing events of the partial eclipse visible locally: \n\nEclipse at the Bell Museum\nScience Museum of Minnesota – Eclipse Day\nBethel University Solar Eclipse Viewing Event\nWild River State Park\nSibley State Park\nMinneopa State Park\n\nWe will add more events as they become known to us. \nFor general information on the eclipse\, please visit https://www.greatamericaneclipse.com/ \nThanks – Minnesota Astronomical Society \n  \n			\n			\n				\n				\n				\n				\n			\n				\n				\n				\n				\n				\n				\n				\n				\n				\n				\n				Sign-up for the MAS ‘Happenings’ weekly email newsletter!\n			\n				\n				\n				\n				\n				\n				\n				\n					\n				\n				\n					\n\n  \n\n\n\n Your name:\n     \n\n Your email:
URL:https://www.mnastro.org/event/2024-solar-eclipse/
LOCATION:MN
CATEGORIES:public
END:VEVENT
BEGIN:VEVENT
DTSTART;TZID=America/Chicago:20240412T190000
DTEND;TZID=America/Chicago:20240414T110000
DTSTAMP:20260420T012748
CREATED:20231218T215152Z
LAST-MODIFIED:20240220T180227Z
UID:10000290-1712948400-1713092400@www.mnastro.org
SUMMARY:LLCC-MAS Observing Weekend
DESCRIPTION:MAS Star Party Member Weekend\nUnlike other MAS star party sites\, the nature of the relationship between the MAS and the LLCC requirements affects access by both members and the general public. Specifically: \n\nOther than the Northern Nights Star Fest\, Events held at LLCC are not open to the public. Only MAS members and their immediate family members are authorized to attend scheduled events.\nThe MAS does not call a star party “on” or “off” for any particular evening or weekend – it is up to the individual members to use the weather resources available and decide if it is worth making the trip.  Check the MAS Forum to see if others are going or not going\nThe site is not available for mid-week observing by members.\n\nCheck the MAS forum – ‘Long Lake Conservation Discussions’ topic and state that you intend to go to LLCC for the designated weekend.  The LLCC committee will notify LLCC management of member intentions and designate bunk rooms available for use (typically in the Marcum House). \nLLCC star parties may be available for Friday and Saturday evenings\, weather permitting. \nAdditional information on using the Long Lake Conservation Center\, including map and directions\, can be found on the LLCC page.
URL:https://www.mnastro.org/event/llcc-mas-observing-weekend/2024-04-12/
LOCATION:Long Lake Conservation Center\, 28952 438th Lane\, Palisade\, 56469\, United States
CATEGORIES:Member Star Party
ATTACH;FMTTYPE=image/png:https://www.mnastro.org/wp-content/uploads/2021/11/llcc_logo.png
GEO:46.647;-93.465
X-APPLE-STRUCTURED-LOCATION;VALUE=URI;X-ADDRESS=Long Lake Conservation Center 28952 438th Lane Palisade 56469 United States;X-APPLE-RADIUS=500;X-TITLE=28952 438th Lane:geo:-93.465,46.647
END:VEVENT
BEGIN:VEVENT
DTSTART;TZID=America/Chicago:20240413T190000
DTEND;TZID=America/Chicago:20240413T220000
DTSTAMP:20260420T012748
CREATED:20231218T225927Z
LAST-MODIFIED:20240222T183606Z
UID:10000311-1713034800-1713045600@www.mnastro.org
SUMMARY:Public Star Party at Eagle Lake Observatory
DESCRIPTION:The Minnesota Astronomical Society (MAS) host Public Star Parties approximately every other Saturday night\, from March to November\, at the Eagle Lake Observatory. Public star parties are open to all\, you do not need to be a MAS member to attend. Typically there is no fee to attend a star party\, however donations are greatly appreciated. \nDuring a Public Star Party\, we use our array of telescope platforms to show you the wonders of the night sky. Our primary goal during a star party is to view stars\, star clusters\, galaxies\, nebula\, planets and maybe a comet or two\, all observable through our telescopes. There may also be a presentation or Q&A session at a public event. Public star parties typically run from 7:00-10:00 pm\, although we tend to stay later during the summer months as the summer sunset is later. Note that the Park is open daily from 6:00 am to 10:00 pm. The main gate to the park entrance automatically closes at 10:00 pm\, so please plan to arrive before then. \n			\n			\n				\n				\n				\n				\n			\n				\n				\n				\n				\n				\n				\n				\n				\n				\n				\n				Public Star Parties are typically all-weather events. Even if it’s cloudy someone will open the observatory for a tour\, give a presentation or answer any astronomy questions you may have. If this is your first star party\, or it’s been a while since you’ve been to one\, please review the Public Star Party Guidelines. \nAnnually\, we also host all day events for the Spring and Fall Astronomy Day and the annual Camping with the Stars event.  Additionally\, we may schedule special events throughout the year for a unique astronomical happenings such as an eclipses\, planetary oppositions\, conjunctions or comets. \n*Other than our Camping with the Stars (CWTS) event\, registration is not required to attend an event. CWTS is also the only event there is a fee to attend\, as it is coordinated through the Baylor Park offices. Call the Baylor Park Office at 952-466-5255 for CWTS registration and camping information. \nAdditional information as well as directions can be found on the Eagle Lake Observatory web page. \nEagle Lake Observatory         onaninfo@mnastro.org \n			\n			\n				\n				\n				\n				\n			\n				\n				\n				\n				\n				\n				\n				\n				\n				\n				\n				\n				\n				\n					\n				\n				\n					\n\n  \n\n\n\n Fill in this form to make an inquiry about our Public Star Parties at ELO.  \n\n\n\n Your name (required):\n     \n\n Your email (required):\n     \n\n Your phone:\n     \n\n ELO Event date (required):  \n\n Let us know if you have any questions or how we could help you! (required):
URL:https://www.mnastro.org/event/public-star-party-at-eagle-lake-observatory-5/2024-04-13/
LOCATION:Eagle Lake Observatory\, 10775 County Road 33\, Norwood Young America\, MN\, 55397\, United States
CATEGORIES:public,Public Star Party
ATTACH;FMTTYPE=image/jpeg:https://www.mnastro.org/wp-content/uploads/2021/04/stars-equipment.jpg
GEO:44.8103;-93.9397
X-APPLE-STRUCTURED-LOCATION;VALUE=URI;X-ADDRESS=Eagle Lake Observatory 10775 County Road 33 Norwood Young America MN 55397 United States;X-APPLE-RADIUS=500;X-TITLE=10775 County Road 33:geo:-93.9397,44.8103
END:VEVENT
BEGIN:VEVENT
DTSTART;TZID=America/Chicago:20240427T190000
DTEND;TZID=America/Chicago:20240427T220000
DTSTAMP:20260420T012748
CREATED:20240424T140847Z
LAST-MODIFIED:20240424T141049Z
UID:10000312-1714244400-1714255200@www.mnastro.org
SUMMARY:Public Star Party at Eagle Lake Observatory
DESCRIPTION:7:00 Featured Speaker: Steve Emert \nTitle: What’s up today and tonight\, April 27\, 2024 \nSummary: We’ll take a look at what the current sunspot activity is like this afternoon (Yay! Nearing Solar Maximum!)\, then look at what we can see tonight starting with the Circumpolar area in the North\, then working West to East (and of course\, overhead near Zenith). Spring is the time of year when we are looking out away from the center of our Milky Way galaxy\, so there are not only several of the nearby “old favorites”\, but also many more far away galaxies emerging for us to check out. \nThe Minnesota Astronomical Society (MAS) host Public Star Parties approximately every other Saturday night\, from March to November\, at the Eagle Lake Observatory. Public star parties are open to all\, you do not need to be a MAS member to attend. Typically there is no fee to attend a star party\, however donations are greatly appreciated. \nDuring a Public Star Party\, we use our array of telescope platforms to show you the wonders of the night sky. Our primary goal during a star party is to view stars\, star clusters\, galaxies\, nebula\, planets and maybe a comet or two\, all observable through our telescopes. There may also be a presentation or Q&A session at a public event. Public star parties typically run from 7:00-10:00 pm\, although we tend to stay later during the summer months as the summer sunset is later. Note that the Park is open daily from 6:00 am to 10:00 pm. The main gate to the park entrance automatically closes at 10:00 pm\, so please plan to arrive before then. \n			\n			\n				\n				\n				\n				\n			\n				\n				\n				\n				\n				\n				\n				\n				\n				\n				\n				Public Star Parties are typically all-weather events. Even if it’s cloudy someone will open the observatory for a tour\, give a presentation or answer any astronomy questions you may have. If this is your first star party\, or it’s been a while since you’ve been to one\, please review the Public Star Party Guidelines. \nAnnually\, we also host all day events for the Spring and Fall Astronomy Day and the annual Camping with the Stars event.  Additionally\, we may schedule special events throughout the year for a unique astronomical happenings such as an eclipses\, planetary oppositions\, conjunctions or comets. \n*Other than our Camping with the Stars (CWTS) event\, registration is not required to attend an event. CWTS is also the only event there is a fee to attend\, as it is coordinated through the Baylor Park offices. Call the Baylor Park Office at 952-466-5255 for CWTS registration and camping information. \nAdditional information as well as directions can be found on the Eagle Lake Observatory web page. \nEagle Lake Observatory         onaninfo@mnastro.org\n			\n			\n				\n				\n				\n				\n			\n				\n				\n				\n				\n				\n				\n				\n				\n				\n				\n				\n				\n				\n					\n				\n				\n					\n\n  \n\n\n\n Fill in this form to make an inquiry about our Public Star Parties at ELO.  \n\n\n\n Your name (required):\n     \n\n Your email (required):\n     \n\n Your phone:\n     \n\n ELO Event date (required):  \n\n Let us know if you have any questions or how we could help you! (required):
URL:https://www.mnastro.org/event/public-star-party-at-eagle-lake-observatory-8/
LOCATION:Eagle Lake Observatory\, 10775 County Road 33\, Norwood Young America\, MN\, 55397\, United States
CATEGORIES:public,Public Star Party
ATTACH;FMTTYPE=image/jpeg:https://www.mnastro.org/wp-content/uploads/2021/04/stars-equipment.jpg
GEO:44.8103;-93.9397
X-APPLE-STRUCTURED-LOCATION;VALUE=URI;X-ADDRESS=Eagle Lake Observatory 10775 County Road 33 Norwood Young America MN 55397 United States;X-APPLE-RADIUS=500;X-TITLE=10775 County Road 33:geo:-93.9397,44.8103
END:VEVENT
BEGIN:VEVENT
DTSTART;TZID=America/Chicago:20240427T190000
DTEND;TZID=America/Chicago:20240427T230000
DTSTAMP:20260420T012748
CREATED:20240427T160035Z
LAST-MODIFIED:20240427T160204Z
UID:10000326-1714244400-1714258800@www.mnastro.org
SUMMARY:CANCELLED - BSIG Observing Session at Metcalf Field
DESCRIPTION:This event has been CANCELLED because of rain and cloudy conditions.  See you next month!\n \nAre you new to MAS?  Do you have a new telescope\, but need some help setting it up?  Join us for the Beginner’s Special Interest Group’s Observing Session.  This is a free event\, and open to all who want to learn!\n \nWe hope you can make it!\nMAS Metcalf Observing Field \nThere is no charge to attend a beginner event\, and you do not need to be an MAS member to attend — everyone is welcome!! The purpose is to help beginners learn the night sky\, and how to set up and use a telescope. Volunteers from the MAS will be on hand to answer your questions. \nIf you have a telescope\, feel free to bring it. If you need help with learning how to set up and use it\, we are happy to help!  Sign up below to be notified about any schedule changes. \n			\n			\n				\n				\n				\n				\n			\n				\n				\n				\n				\n				\n				\n				\n				\n				\n				\n				If you haven’t been to Metcalf Field\, it can be a little difficult to locate the entrance. So please arrive in daylight. \nThe BSIG Coordinator will make the final Go/No Go call on the evening of Thursday before the event\, based on the weather forecast. If Friday is more favorable\, then the session may be moved to Friday. \nPlease monitor the MAS BSIG Forum for latest updates. \nIf you’d like to volunteer to help out at this and future Beginner group events\, please let me know.\n			\n			\n				\n				\n				\n				\n			\n				\n				\n				\n				\n				\n				\n				\n				\n				\n				\n				\n				\n				\n					\n				\n				\n					\n\n  \n\n\n\n Fill in this form to sign-up for BSIG events only.  \n\nNote: Public Star Parties at ELO do not require sign-up. \n\n\n Your name (required):\n     \n\n Your email (required):\n     \n\n Your phone:\n     \n\n BSIG Event date (required):  \n\n Number people attending:  \n\n Let us know if you have any questions or how we could help you! (required):
URL:https://www.mnastro.org/event/bsig-observing-session-at-metcalf-field-4/
LOCATION:Metcalf Field\, 795 Indian Trail S\, Afton\, MN\, 55001\, United States
CATEGORIES:Beginner's Observing Session,BSIG,public,Public Star Party
GEO:44.93734;-92.82157
X-APPLE-STRUCTURED-LOCATION;VALUE=URI;X-ADDRESS=Metcalf Field 795 Indian Trail S Afton MN 55001 United States;X-APPLE-RADIUS=500;X-TITLE=795 Indian Trail S:geo:-92.82157,44.93734
END:VEVENT
END:VCALENDAR