BEGIN:VCALENDAR
VERSION:2.0
PRODID:-//Minnesota Astronomical Society - ECPv6.15.20//NONSGML v1.0//EN
CALSCALE:GREGORIAN
METHOD:PUBLISH
X-WR-CALNAME:Minnesota Astronomical Society
X-ORIGINAL-URL:https://www.mnastro.org
X-WR-CALDESC:Events for Minnesota Astronomical Society
REFRESH-INTERVAL;VALUE=DURATION:PT1H
X-Robots-Tag:noindex
X-PUBLISHED-TTL:PT1H
BEGIN:VTIMEZONE
TZID:America/Chicago
BEGIN:DAYLIGHT
TZOFFSETFROM:-0600
TZOFFSETTO:-0500
TZNAME:CDT
DTSTART:20230312T080000
END:DAYLIGHT
BEGIN:STANDARD
TZOFFSETFROM:-0500
TZOFFSETTO:-0600
TZNAME:CST
DTSTART:20231105T070000
END:STANDARD
BEGIN:DAYLIGHT
TZOFFSETFROM:-0600
TZOFFSETTO:-0500
TZNAME:CDT
DTSTART:20240310T080000
END:DAYLIGHT
BEGIN:STANDARD
TZOFFSETFROM:-0500
TZOFFSETTO:-0600
TZNAME:CST
DTSTART:20241103T070000
END:STANDARD
BEGIN:DAYLIGHT
TZOFFSETFROM:-0600
TZOFFSETTO:-0500
TZNAME:CDT
DTSTART:20250309T080000
END:DAYLIGHT
BEGIN:STANDARD
TZOFFSETFROM:-0500
TZOFFSETTO:-0600
TZNAME:CST
DTSTART:20251102T070000
END:STANDARD
END:VTIMEZONE
BEGIN:VEVENT
DTSTART;TZID=America/Chicago:20240531T190000
DTEND;TZID=America/Chicago:20240602T110000
DTSTAMP:20260419T222038
CREATED:20231218T215152Z
LAST-MODIFIED:20240220T180227Z
UID:10000293-1717182000-1717326000@www.mnastro.org
SUMMARY:LLCC-MAS Observing Weekend
DESCRIPTION:MAS Star Party Member Weekend\nUnlike other MAS star party sites\, the nature of the relationship between the MAS and the LLCC requirements affects access by both members and the general public. Specifically: \n\nOther than the Northern Nights Star Fest\, Events held at LLCC are not open to the public. Only MAS members and their immediate family members are authorized to attend scheduled events.\nThe MAS does not call a star party “on” or “off” for any particular evening or weekend – it is up to the individual members to use the weather resources available and decide if it is worth making the trip.  Check the MAS Forum to see if others are going or not going\nThe site is not available for mid-week observing by members.\n\nCheck the MAS forum – ‘Long Lake Conservation Discussions’ topic and state that you intend to go to LLCC for the designated weekend.  The LLCC committee will notify LLCC management of member intentions and designate bunk rooms available for use (typically in the Marcum House). \nLLCC star parties may be available for Friday and Saturday evenings\, weather permitting. \nAdditional information on using the Long Lake Conservation Center\, including map and directions\, can be found on the LLCC page.
URL:https://www.mnastro.org/event/llcc-mas-observing-weekend/2024-05-31/
LOCATION:Long Lake Conservation Center\, 28952 438th Lane\, Palisade\, 56469\, United States
CATEGORIES:Member Star Party
ATTACH;FMTTYPE=image/png:https://www.mnastro.org/wp-content/uploads/2021/11/llcc_logo.png
GEO:46.647;-93.465
X-APPLE-STRUCTURED-LOCATION;VALUE=URI;X-ADDRESS=Long Lake Conservation Center 28952 438th Lane Palisade 56469 United States;X-APPLE-RADIUS=500;X-TITLE=28952 438th Lane:geo:-93.465,46.647
END:VEVENT
BEGIN:VEVENT
DTSTART;TZID=America/Chicago:20240601T190000
DTEND;TZID=America/Chicago:20240601T220000
DTSTAMP:20260419T222038
CREATED:20240521T143609Z
LAST-MODIFIED:20240521T143750Z
UID:10000314-1717268400-1717279200@www.mnastro.org
SUMMARY:Public Star Party at Eagle Lake Observatory
DESCRIPTION:7:00 PM  Speaker: Matt Dunham \nTopic: Basics of How Different Telescopes Work \nSummary:  An overview of the most common types of telescope optics and mounts in simple terms with examples at the observatory\, including pros and cons and help in selecting the right telescope for the intended uses. \nBrief Bio: Matt has been a product development engineer for industrial\, wireless\, and medical devices. Hobby’s include amatuer radio\, storm chasing\, and various outdoor adventures. Matt joined the MAS in 2018 and is currently serving as the MAS treasurer. \nThe Minnesota Astronomical Society (MAS) host Public Star Parties approximately every other Saturday night\, from March to November\, at the Eagle Lake Observatory. Public star parties are open to all\, you do not need to be a MAS member to attend. Typically there is no fee to attend a star party\, however donations are greatly appreciated. \nDuring a Public Star Party\, we use our array of telescope platforms to show you the wonders of the night sky. Our primary goal during a star party is to view stars\, star clusters\, galaxies\, nebula\, planets and maybe a comet or two\, all observable through our telescopes. There may also be a presentation or Q&A session at a public event. Public star parties typically run from 7:00-10:00 pm\, although we tend to stay later during the summer months as the summer sunset is later. Note that the Park is open daily from 6:00 am to 10:00 pm. The main gate to the park entrance automatically closes at 10:00 pm\, so please plan to arrive before then. \n			\n			\n				\n				\n				\n				\n			\n				\n				\n				\n				\n				\n				\n				\n				\n				\n				\n				Public Star Parties are typically all-weather events. Even if it’s cloudy someone will open the observatory for a tour\, give a presentation or answer any astronomy questions you may have. If this is your first star party\, or it’s been a while since you’ve been to one\, please review the Public Star Party Guidelines. \nAnnually\, we also host all day events for the Spring and Fall Astronomy Day and the annual Camping with the Stars event.  Additionally\, we may schedule special events throughout the year for a unique astronomical happenings such as an eclipses\, planetary oppositions\, conjunctions or comets. \n*Other than our Camping with the Stars (CWTS) event\, registration is not required to attend an event. CWTS is also the only event there is a fee to attend\, as it is coordinated through the Baylor Park offices. Call the Baylor Park Office at 952-466-5255 for CWTS registration and camping information. \nAdditional information as well as directions can be found on the Eagle Lake Observatory web page. \nEagle Lake Observatory         onaninfo@mnastro.org\n			\n			\n				\n				\n				\n				\n			\n				\n				\n				\n				\n				\n				\n				\n				\n				\n				\n				\n				\n				\n					\n				\n				\n					\n\n  \n\n\n\n Fill in this form to make an inquiry about our Public Star Parties at ELO.  \n\n\n\n Your name (required):\n     \n\n Your email (required):\n     \n\n Your phone:\n     \n\n ELO Event date (required):  \n\n Let us know if you have any questions or how we could help you! (required):
URL:https://www.mnastro.org/event/public-star-party-at-eagle-lake-observatory-10/
LOCATION:Eagle Lake Observatory\, 10775 County Road 33\, Norwood Young America\, MN\, 55397\, United States
CATEGORIES:public,Public Star Party
ATTACH;FMTTYPE=image/jpeg:https://www.mnastro.org/wp-content/uploads/2021/04/stars-equipment.jpg
GEO:44.8103;-93.9397
X-APPLE-STRUCTURED-LOCATION;VALUE=URI;X-ADDRESS=Eagle Lake Observatory 10775 County Road 33 Norwood Young America MN 55397 United States;X-APPLE-RADIUS=500;X-TITLE=10775 County Road 33:geo:-93.9397,44.8103
END:VEVENT
BEGIN:VEVENT
DTSTART;TZID=America/Chicago:20240601T200000
DTEND;TZID=America/Chicago:20240601T230000
DTSTAMP:20260419T222038
CREATED:20240519T145613Z
LAST-MODIFIED:20240519T145708Z
UID:10000374-1717272000-1717282800@www.mnastro.org
SUMMARY:Rescheduled BSIG Observing Session at Metcalf Field
DESCRIPTION:This is the rescheduled session from the rainout on May 17.\n \nAre you new to MAS?  Do you have a new telescope\, but need some help setting it up?  Join us for the Beginner’s Special Interest Group’s Observing Session.  This is a free event\, and open to all who want to learn!\n \nWe hope you can make it!\nMAS Metcalf Observing Field \nThere is no charge to attend a beginner event\, and you do not need to be an MAS member to attend — everyone is welcome!! The purpose is to help beginners learn the night sky\, and how to set up and use a telescope. Volunteers from the MAS will be on hand to answer your questions. \nIf you have a telescope\, feel free to bring it. If you need help with learning how to set up and use it\, we are happy to help!  Sign up below to be notified about any schedule changes. \n			\n			\n				\n				\n				\n				\n			\n				\n				\n				\n				\n				\n				\n				\n				\n				\n				\n				If you haven’t been to Metcalf Field\, it can be a little difficult to locate the entrance. So please arrive in daylight. \nThe BSIG Coordinator will make the final Go/No Go call on the evening of Thursday before the event\, based on the weather forecast. If Friday is more favorable\, then the session may be moved to Friday. \nPlease monitor the MAS BSIG Forum for latest updates. \nIf you’d like to volunteer to help out at this and future Beginner group events\, please let me know. \n			\n			\n				\n				\n				\n				\n			\n				\n				\n				\n				\n				\n				\n				\n				\n				\n				\n				\n				\n				\n					\n				\n				\n					\n\n  \n\n\n\n Fill in this form to sign-up for BSIG events only.  \n\nNote: Public Star Parties at ELO do not require sign-up. \n\n\n Your name (required):\n     \n\n Your email (required):\n     \n\n Your phone:\n     \n\n BSIG Event date (required):  \n\n Number people attending:  \n\n Let us know if you have any questions or how we could help you! (required):
URL:https://www.mnastro.org/event/rescheduled-bsig-observing-session/
LOCATION:Metcalf Field\, 795 Indian Trail S\, Afton\, MN\, 55001\, United States
CATEGORIES:BSIG,public,Public Star Party
GEO:44.93734;-92.82157
X-APPLE-STRUCTURED-LOCATION;VALUE=URI;X-ADDRESS=Metcalf Field 795 Indian Trail S Afton MN 55001 United States;X-APPLE-RADIUS=500;X-TITLE=795 Indian Trail S:geo:-92.82157,44.93734
END:VEVENT
BEGIN:VEVENT
DTSTART;TZID=America/Chicago:20240606T190000
DTEND;TZID=America/Chicago:20240606T210000
DTSTAMP:20260419T222038
CREATED:20240229T022443Z
LAST-MODIFIED:20240605T190216Z
UID:10000281-1717700400-1717707600@www.mnastro.org
SUMMARY:MAS Monthly Meeting – 2024 Eclipse Pictures
DESCRIPTION:The MAS will be hosting a hybrid in-person & ZOOM Monthly Meeting.  MAS meetings are free and open to the public. JOIN US! \nMAS Monthly Meeting – 2024 Eclipse Pictures \nCOVID-19 PROTOCOL:  Masks are welcome\, but not required at the Monthly Meeting.  Reminder if you are feeling ill or have been around someone who has been ill\, PLEASE STAY HOME!! \nMeeting Location:AŊPÉTU TÉČA Education Center (formerly the Fairview Community Center)1910 County Road B WestRoseville\, Minnesota 55113 \n			\n			\n				\n				\n				\n				\n			\n				\n				\n				\n				\n				\n				\n				\n				\n				\n				\n				The hybrid meetings will be recorded on ZOOM\, and post-edited for publication after a few days on the MAS YouTube Channel. \nThis meeting will be held online using Zoom using the following URL: https://us06web.zoom.us/j/85875586905?pwd=jbhbi8HS7YBDd4fGICa11J3DXf0gqr.1 \nYou can probably hear best with a headset but your computer’s speaker and microphone will also work. \nDialing-in with a phone: \n\nMeeting ID:  858 7558 6905\nPasscode: 668848\nNumber: +1 312 626 6799 US (Chicago)\n\nIn order to ensure the most success we are asking everyone to follow a couple of rules: \n\nDon’t turn on your camera – it sucks up bandwidth and we really don’t need to see you.\nKeep your microphone muted until you are prompted during a question and answer session during the presentation. This will cut down background noise substantially.\nYou can request to ask a question in the chat area of the Meet and wait to be prompted by the moderator.\n\nWe hope you can join us.Clear skies! \n			\n			\n				\n				\n				\n				\n			\n				\n				\n				\n				\n				\n				\n				\n				\n				\n				\n				Fill out this form to be added to out ‘Weekly Happenings’ email newsletter!\n			\n				\n				\n				\n				\n				\n				\n				\n					\n				\n				\n					\n\n  \n\n\n\n Your name:\n     \n\n Your email:
URL:https://www.mnastro.org/event/mas-monthly-meeting-8/
LOCATION:MAS Hybrid Monthly Meeting at AŊPÉTU TÉČA Education Center\, 1910 County Road B West\, Roseville\, MN\, 55113\, United States
CATEGORIES:Monthly Meeting,public
ATTACH;FMTTYPE=image/jpeg:https://www.mnastro.org/wp-content/uploads/2021/12/MAShybridMonthlyMeeting.jpg
END:VEVENT
BEGIN:VEVENT
DTSTART;TZID=America/Chicago:20240607T190000
DTEND;TZID=America/Chicago:20240609T110000
DTSTAMP:20260419T222038
CREATED:20231218T215152Z
LAST-MODIFIED:20240220T180227Z
UID:10000294-1717786800-1717930800@www.mnastro.org
SUMMARY:LLCC-MAS Observing Weekend
DESCRIPTION:MAS Star Party Member Weekend\nUnlike other MAS star party sites\, the nature of the relationship between the MAS and the LLCC requirements affects access by both members and the general public. Specifically: \n\nOther than the Northern Nights Star Fest\, Events held at LLCC are not open to the public. Only MAS members and their immediate family members are authorized to attend scheduled events.\nThe MAS does not call a star party “on” or “off” for any particular evening or weekend – it is up to the individual members to use the weather resources available and decide if it is worth making the trip.  Check the MAS Forum to see if others are going or not going\nThe site is not available for mid-week observing by members.\n\nCheck the MAS forum – ‘Long Lake Conservation Discussions’ topic and state that you intend to go to LLCC for the designated weekend.  The LLCC committee will notify LLCC management of member intentions and designate bunk rooms available for use (typically in the Marcum House). \nLLCC star parties may be available for Friday and Saturday evenings\, weather permitting. \nAdditional information on using the Long Lake Conservation Center\, including map and directions\, can be found on the LLCC page.
URL:https://www.mnastro.org/event/llcc-mas-observing-weekend/2024-06-07/
LOCATION:Long Lake Conservation Center\, 28952 438th Lane\, Palisade\, 56469\, United States
CATEGORIES:Member Star Party
ATTACH;FMTTYPE=image/png:https://www.mnastro.org/wp-content/uploads/2021/11/llcc_logo.png
GEO:46.647;-93.465
X-APPLE-STRUCTURED-LOCATION;VALUE=URI;X-ADDRESS=Long Lake Conservation Center 28952 438th Lane Palisade 56469 United States;X-APPLE-RADIUS=500;X-TITLE=28952 438th Lane:geo:-93.465,46.647
END:VEVENT
BEGIN:VEVENT
DTSTART;TZID=America/Chicago:20240608T190000
DTEND;TZID=America/Chicago:20240609T190000
DTSTAMP:20260419T222038
CREATED:20231228T220105Z
LAST-MODIFIED:20240506T210845Z
UID:10000335-1717873200-1717959600@www.mnastro.org
SUMMARY:Virgo Venture 2024
DESCRIPTION:Virgo Venture\nThe MAS ”Virgo Venture” is a star party dedicated to observing many of the brighter galaxies in the Virgo Cluster. The Venture is scheduled for the new moon weekend\, usually one month after the Messier Marathon\, when Virgo is in a prime viewing position. Saturday is the primary night\, with Friday being the backup night. \nAs with all Cherry Grove events\, the Virgo Venture is held only if the skies are clear and will be CANCELLED IF CLOUDY. See the MAS home page or Forum for the latest information regarding the star party status.
URL:https://www.mnastro.org/event/virgo-venture-2024/
LOCATION:Cherry Grove Observatory\, 8485 520th Street\, Kenyon\, MN\, 55946\, United States
CATEGORIES:member,Member Star Party
ATTACH;FMTTYPE=image/jpeg:https://www.mnastro.org/wp-content/uploads/2022/02/Virgo-Venture-image.jpg
GEO:44.1971;-92.8623
X-APPLE-STRUCTURED-LOCATION;VALUE=URI;X-ADDRESS=Cherry Grove Observatory 8485 520th Street Kenyon MN 55946 United States;X-APPLE-RADIUS=500;X-TITLE=8485 520th Street:geo:-92.8623,44.1971
END:VEVENT
BEGIN:VEVENT
DTSTART;TZID=America/Chicago:20240615T190000
DTEND;TZID=America/Chicago:20240615T220000
DTSTAMP:20260419T222038
CREATED:20231218T225927Z
LAST-MODIFIED:20240222T183606Z
UID:10000315-1718478000-1718488800@www.mnastro.org
SUMMARY:Public Star Party at Eagle Lake Observatory
DESCRIPTION:The Minnesota Astronomical Society (MAS) host Public Star Parties approximately every other Saturday night\, from March to November\, at the Eagle Lake Observatory. Public star parties are open to all\, you do not need to be a MAS member to attend. Typically there is no fee to attend a star party\, however donations are greatly appreciated. \nDuring a Public Star Party\, we use our array of telescope platforms to show you the wonders of the night sky. Our primary goal during a star party is to view stars\, star clusters\, galaxies\, nebula\, planets and maybe a comet or two\, all observable through our telescopes. There may also be a presentation or Q&A session at a public event. Public star parties typically run from 7:00-10:00 pm\, although we tend to stay later during the summer months as the summer sunset is later. Note that the Park is open daily from 6:00 am to 10:00 pm. The main gate to the park entrance automatically closes at 10:00 pm\, so please plan to arrive before then. \n			\n			\n				\n				\n				\n				\n			\n				\n				\n				\n				\n				\n				\n				\n				\n				\n				\n				Public Star Parties are typically all-weather events. Even if it’s cloudy someone will open the observatory for a tour\, give a presentation or answer any astronomy questions you may have. If this is your first star party\, or it’s been a while since you’ve been to one\, please review the Public Star Party Guidelines. \nAnnually\, we also host all day events for the Spring and Fall Astronomy Day and the annual Camping with the Stars event.  Additionally\, we may schedule special events throughout the year for a unique astronomical happenings such as an eclipses\, planetary oppositions\, conjunctions or comets. \n*Other than our Camping with the Stars (CWTS) event\, registration is not required to attend an event. CWTS is also the only event there is a fee to attend\, as it is coordinated through the Baylor Park offices. Call the Baylor Park Office at 952-466-5255 for CWTS registration and camping information. \nAdditional information as well as directions can be found on the Eagle Lake Observatory web page. \nEagle Lake Observatory         onaninfo@mnastro.org \n			\n			\n				\n				\n				\n				\n			\n				\n				\n				\n				\n				\n				\n				\n				\n				\n				\n				\n				\n				\n					\n				\n				\n					\n\n  \n\n\n\n Fill in this form to make an inquiry about our Public Star Parties at ELO.  \n\n\n\n Your name (required):\n     \n\n Your email (required):\n     \n\n Your phone:\n     \n\n ELO Event date (required):  \n\n Let us know if you have any questions or how we could help you! (required):
URL:https://www.mnastro.org/event/public-star-party-at-eagle-lake-observatory-5/2024-06-15/
LOCATION:Eagle Lake Observatory\, 10775 County Road 33\, Norwood Young America\, MN\, 55397\, United States
CATEGORIES:public,Public Star Party
ATTACH;FMTTYPE=image/jpeg:https://www.mnastro.org/wp-content/uploads/2021/04/stars-equipment.jpg
GEO:44.8103;-93.9397
X-APPLE-STRUCTURED-LOCATION;VALUE=URI;X-ADDRESS=Eagle Lake Observatory 10775 County Road 33 Norwood Young America MN 55397 United States;X-APPLE-RADIUS=500;X-TITLE=10775 County Road 33:geo:-93.9397,44.8103
END:VEVENT
BEGIN:VEVENT
DTSTART;TZID=America/Chicago:20240622T200000
DTEND;TZID=America/Chicago:20240622T230000
DTSTAMP:20260419T222038
CREATED:20240614T014635Z
LAST-MODIFIED:20240621T224152Z
UID:10000328-1719086400-1719097200@www.mnastro.org
SUMMARY:BSIG Observing Session at Metcalf Field CANCELLED
DESCRIPTION:Because of weather\, we have CANCELLED this event.  The next scheduled beginner observing session will be on Saturday July 27 at 8:00pm\, back at Metcalf Field. Hope to see you there!\n \nAre you new to MAS?  Do you have a new telescope\, but need some help setting it up?  Join us for the Beginner’s Special Interest Group’s Observing Session.  This is a free event\, and open to all who want to learn!\n \nWe hope you can make it!\nMAS Metcalf Observing Field \nThere is no charge to attend a beginner event\, and you do not need to be an MAS member to attend — everyone is welcome!! The purpose is to help beginners learn the night sky\, and how to set up and use a telescope. Volunteers from the MAS will be on hand to answer your questions. \nIf you have a telescope\, feel free to bring it. If you need help with learning how to set up and use it\, we are happy to help!  Sign up below to be notified about any schedule changes. \n			\n			\n				\n				\n				\n				\n			\n				\n				\n				\n				\n				\n				\n				\n				\n				\n				\n				If you haven’t been to Metcalf Field\, it can be a little difficult to locate the entrance. So please arrive in daylight. \nThe BSIG Coordinator will make the final Go/No Go call on the evening of Thursday before the event\, based on the weather forecast. If Friday is more favorable\, then the session may be moved to Friday. \nPlease monitor the MAS BSIG Forum for latest updates. \nIf you’d like to volunteer to help out at this and future Beginner group events\, please let me know.\n			\n			\n				\n				\n				\n				\n			\n				\n				\n				\n				\n				\n				\n				\n				\n				\n				\n				\n				\n				\n					\n				\n				\n					\n\n  \n\n\n\n Fill in this form to sign-up for BSIG events only.  \n\nNote: Public Star Parties at ELO do not require sign-up. \n\n\n Your name (required):\n     \n\n Your email (required):\n     \n\n Your phone:\n     \n\n BSIG Event date (required):  \n\n Number people attending:  \n\n Let us know if you have any questions or how we could help you! (required):
URL:https://www.mnastro.org/event/bsig-observing-session-at-metcalf-field-5/
LOCATION:Metcalf Field\, 795 Indian Trail S\, Afton\, MN\, 55001\, United States
CATEGORIES:Beginner's Observing Session,BSIG,public,Public Star Party
GEO:44.93734;-92.82157
X-APPLE-STRUCTURED-LOCATION;VALUE=URI;X-ADDRESS=Metcalf Field 795 Indian Trail S Afton MN 55001 United States;X-APPLE-RADIUS=500;X-TITLE=795 Indian Trail S:geo:-92.82157,44.93734
END:VEVENT
BEGIN:VEVENT
DTSTART;TZID=America/Chicago:20240629T190000
DTEND;TZID=America/Chicago:20240629T220000
DTSTAMP:20260419T222038
CREATED:20240621T223149Z
LAST-MODIFIED:20240621T223652Z
UID:10000316-1719687600-1719698400@www.mnastro.org
SUMMARY:Public Star Party at Eagle Lake Observatory
DESCRIPTION:Featured Speaker: Laura Hammerbeck\nTime: 7:00 PM \nTitle: Exploding stars!\nSummary: Never seen an exploding star? This year\, you have a chance! T. Coronae Borealis\, predicted to erupt soon\, is a once-in-a-lifetime event. It’s a recurrent nova\, and people around the world will be able to see it themselves. Why does this happen\, and when? Where should you look? Join NASA/JPL Solar System Ambassador Laura Hammerbeck on an exploration of nova\, supernova and even kilonova. Explosions in space…what could be more fun? \nBio: Laura is a motivational and inspirational speaker. With over 20 years of teaching and communication experience\, she presents solid information in an enthusiastic yet relaxed manner\, with an ounce of humor on the side. Laura brings focus and energy to her audience.An amateur astronomer and space junkie\, she is eager to share space exploration and study\, as well as all its intriguing ideas with people of all ages. \nThe Minnesota Astronomical Society (MAS) host Public Star Parties approximately every other Saturday night\, from March to November\, at the Eagle Lake Observatory. Public star parties are open to all\, you do not need to be a MAS member to attend. Typically there is no fee to attend a star party\, however donations are greatly appreciated. \nDuring a Public Star Party\, we use our array of telescope platforms to show you the wonders of the night sky. Our primary goal during a star party is to view stars\, star clusters\, galaxies\, nebula\, planets and maybe a comet or two\, all observable through our telescopes. There may also be a presentation or Q&A session at a public event. Public star parties typically run from 7:00-10:00 pm\, although we tend to stay later during the summer months as the summer sunset is later. Note that the Park is open daily from 6:00 am to 10:00 pm. The main gate to the park entrance automatically closes at 10:00 pm\, so please plan to arrive before then. \n			\n			\n				\n				\n				\n				\n			\n				\n				\n				\n				\n				\n				\n				\n				\n				\n				\n				Public Star Parties are typically all-weather events. Even if it’s cloudy someone will open the observatory for a tour\, give a presentation or answer any astronomy questions you may have. If this is your first star party\, or it’s been a while since you’ve been to one\, please review the Public Star Party Guidelines. \nAnnually\, we also host all day events for the Spring and Fall Astronomy Day and the annual Camping with the Stars event.  Additionally\, we may schedule special events throughout the year for a unique astronomical happenings such as an eclipses\, planetary oppositions\, conjunctions or comets. \n*Other than our Camping with the Stars (CWTS) event\, registration is not required to attend an event. CWTS is also the only event there is a fee to attend\, as it is coordinated through the Baylor Park offices. Call the Baylor Park Office at 952-466-5255 for CWTS registration and camping information. \nAdditional information as well as directions can be found on the Eagle Lake Observatory web page. \nEagle Lake Observatory         onaninfo@mnastro.org\n			\n			\n				\n				\n				\n				\n			\n				\n				\n				\n				\n				\n				\n				\n				\n				\n				\n				\n				\n				\n					\n				\n				\n					\n\n  \n\n\n\n Fill in this form to make an inquiry about our Public Star Parties at ELO.  \n\n\n\n Your name (required):\n     \n\n Your email (required):\n     \n\n Your phone:\n     \n\n ELO Event date (required):  \n\n Let us know if you have any questions or how we could help you! (required):
URL:https://www.mnastro.org/event/public-star-party-at-eagle-lake-observatory-11/
LOCATION:Eagle Lake Observatory\, 10775 County Road 33\, Norwood Young America\, MN\, 55397\, United States
CATEGORIES:public,Public Star Party
ATTACH;FMTTYPE=image/jpeg:https://www.mnastro.org/wp-content/uploads/2021/04/stars-equipment.jpg
GEO:44.8103;-93.9397
X-APPLE-STRUCTURED-LOCATION;VALUE=URI;X-ADDRESS=Eagle Lake Observatory 10775 County Road 33 Norwood Young America MN 55397 United States;X-APPLE-RADIUS=500;X-TITLE=10775 County Road 33:geo:-93.9397,44.8103
END:VEVENT
END:VCALENDAR