BEGIN:VCALENDAR
VERSION:2.0
PRODID:-//Minnesota Astronomical Society - ECPv6.15.20//NONSGML v1.0//EN
CALSCALE:GREGORIAN
METHOD:PUBLISH
X-WR-CALNAME:Minnesota Astronomical Society
X-ORIGINAL-URL:https://www.mnastro.org
X-WR-CALDESC:Events for Minnesota Astronomical Society
REFRESH-INTERVAL;VALUE=DURATION:PT1H
X-Robots-Tag:noindex
X-PUBLISHED-TTL:PT1H
BEGIN:VTIMEZONE
TZID:America/Chicago
BEGIN:DAYLIGHT
TZOFFSETFROM:-0600
TZOFFSETTO:-0500
TZNAME:CDT
DTSTART:20240310T080000
END:DAYLIGHT
BEGIN:STANDARD
TZOFFSETFROM:-0500
TZOFFSETTO:-0600
TZNAME:CST
DTSTART:20241103T070000
END:STANDARD
BEGIN:DAYLIGHT
TZOFFSETFROM:-0600
TZOFFSETTO:-0500
TZNAME:CDT
DTSTART:20250309T080000
END:DAYLIGHT
BEGIN:STANDARD
TZOFFSETFROM:-0500
TZOFFSETTO:-0600
TZNAME:CST
DTSTART:20251102T070000
END:STANDARD
BEGIN:DAYLIGHT
TZOFFSETFROM:-0600
TZOFFSETTO:-0500
TZNAME:CDT
DTSTART:20260308T080000
END:DAYLIGHT
BEGIN:STANDARD
TZOFFSETFROM:-0500
TZOFFSETTO:-0600
TZNAME:CST
DTSTART:20261101T070000
END:STANDARD
END:VTIMEZONE
BEGIN:VEVENT
DTSTART;TZID=America/Chicago:20250206T190000
DTEND;TZID=America/Chicago:20250206T210000
DTSTAMP:20260419T100716
CREATED:20250127T205137Z
LAST-MODIFIED:20250205T223507Z
UID:10000396-1738868400-1738875600@www.mnastro.org
SUMMARY:2025 MAS Monthly Meeting - Featuring Prof. Steven Spangler
DESCRIPTION:The MAS will be hosting a hybrid in-person & ZOOM Monthly Meeting.  MAS meetings are free and open to the public. JOIN US! \nFeatured Speaker: Prof. Steven Spangler (University of Iowa)\nTopic: Where Do Stars Come From? \nCOVID-19 PROTOCOL:  Masks are welcome\, but not required at the Monthly Meeting.  Reminder if you are feeling ill or have been around someone who has been ill\, PLEASE STAY HOME!! \nMeeting Location:AŊPÉTU TÉČA Education Center (formerly the Fairview Community Center)1910 County Road B WestRoseville\, Minnesota 55113 \n			\n			\n				\n				\n				\n				\n			\n				\n				\n				\n				\n				\n				\n				\n				\n				\n				\n				The hybrid meetings will be recorded on ZOOM\, and post-edited for publication after a few days on the MAS YouTube Channel. \nThis meeting will be held online using Zoom using the following URL: https://us06web.zoom.us/j/84532134744?pwd=9hVmlTIcaZOFZbJjf8AlrEEzoRKSpn.1 \nYou can probably hear best with a headset but your computer’s speaker and microphone will also work. \nDialing-in with a phone: \n\nMeeting ID: 845 3213 4744 \nPasscode: 221397\nNumber: +1 312 626 6799 US (Chicago)\n\nIn order to ensure the most success we are asking everyone to follow a couple of rules: \n\nDon’t turn on your camera – it sucks up bandwidth and we really don’t need to see you.\nKeep your microphone muted until you are prompted during a question and answer session during the presentation. This will cut down background noise substantially.\nYou can request to ask a question in the chat area of the Meet and wait to be prompted by the moderator.\n\nWe hope you can join us.Clear skies! \n			\n			\n				\n				\n				\n				\n			\n				\n				\n				\n				\n				\n				\n				\n				\n				\n				\n				Fill out this form to be added to out ‘Weekly Happenings’ email newsletter!\n			\n				\n				\n				\n				\n				\n				\n				\n					\n				\n				\n					\n\n  \n\n\n\n Your name:\n     \n\n Your email:
URL:https://www.mnastro.org/event/2025-mas-monthly-meeting-3/
LOCATION:MAS Hybrid Monthly Meeting at AŊPÉTU TÉČA Education Center\, 1910 County Road B West\, Roseville\, MN\, 55113\, United States
CATEGORIES:public
ATTACH;FMTTYPE=image/jpeg:https://www.mnastro.org/wp-content/uploads/2024/09/IMG_7864.jpg
END:VEVENT
BEGIN:VEVENT
DTSTART;TZID=America/Chicago:20250208T130000
DTEND;TZID=America/Chicago:20250208T150000
DTSTAMP:20260419T100716
CREATED:20241204T173857Z
LAST-MODIFIED:20250130T194136Z
UID:10000382-1739019600-1739026800@www.mnastro.org
SUMMARY:BSIG Winter Zoom Presentation - Return to the Moon – The NASA Artemis Program - Featuring Dave Falkner
DESCRIPTION: The MAS invites everyone to the virtual Beginner’s Group Presentation using ZOOM. \nFeatured Speaker:   Dave Falkner – NASA AmbassadorTopic: Return to the Moon – The NASA Artemis Program \nSynopsis: \n“It’s been over 50 years since mankind set foot on the Moon! Now NASA wants humans to set foot back on the Moon before the end of the decade. In his presentation\, Dave Falkner will talk about the events since the Apollo program that led to the Artemis program. He will then talk about the many aspects of the Artemis program with NASA\, partner countries and the commercial industry all combining to put humans back on the Moon … and beyond!“\n \nBiography of Dave Falkner:\n \nDave has been a life-long amateur astronomer. He first became interested in astronomy as a pre-teen when his father took him to a show at the Holcolmb Planetarium in Indianapolis. He became hooked and has had an interest in astronomy ever since.\n \nAfter retiring from the US Navy\, Dave settled in Minnesota and became an active member of the Minnesota Astronomical Society (MAS). He has served as its President from 2011 – 2014\, 2019 – 2020\, and Secretary from 2023 – 2024. As a member of the MAS\, Dave enjoyed performing astronomical outreach often speaking to groups at libraries\, nature centers and schools.\n \nDave is a NASA/JPL Solar System Ambassador where he educates the public about space\, space exploration and NASA missions. Along with his outreach activities Dave has taught beginning Astronomy classes at a local community college and has published three boo\nVisit the B-SIG Discussion Forum for more information and any last minute changes. \nThis meeting will be held online using Zoom. If you would like to join us you will need use the following URL:https://us06web.zoom.us/j/83367107396?pwd=ERKauZ7aA2qcAJhOMR1qCWanoyxhyu.1 \n\nMeeting ID:        833 6710 7396Passcode:            737018 \nWe will open up this link about 10 minutes before the event starts. \n\nYou can probably hear best with a headset but your computer’s speaker and microphone will also work. \nDial-in Phone Number \n+1 312 626 6799 US (Chicago) \nIn order to ensure the most success we are asking everyone to follow a couple of rules: \n1. Don’t turn on your camera – it sucks up bandwidth and we really don’t need to see you.2. Keep your microphone muted until you are prompted during a question and answer session during the presentation. This will cut down background noise substantially.3. You can request to ask a question in the chat area in Zoom and wait to be prompted by the moderator. \nWe hope you can join us.Clear skies! \nSuresh SreenivasanMAS Beginner’s Coordinator
URL:https://www.mnastro.org/event/bsig-feb2025-presentation/
LOCATION:Virtual Meeting Using Zoom
CATEGORIES:BSIG,BSIG Virtual Presentation,public
ATTACH;FMTTYPE=image/jpeg:https://www.mnastro.org/wp-content/uploads/2021/07/zoom-logo.jpg
END:VEVENT
END:VCALENDAR