BEGIN:VCALENDAR
VERSION:2.0
PRODID:-//Minnesota Astronomical Society - ECPv6.15.20//NONSGML v1.0//EN
CALSCALE:GREGORIAN
METHOD:PUBLISH
X-WR-CALNAME:Minnesota Astronomical Society
X-ORIGINAL-URL:https://www.mnastro.org
X-WR-CALDESC:Events for Minnesota Astronomical Society
REFRESH-INTERVAL;VALUE=DURATION:PT1H
X-Robots-Tag:noindex
X-PUBLISHED-TTL:PT1H
BEGIN:VTIMEZONE
TZID:America/Chicago
BEGIN:DAYLIGHT
TZOFFSETFROM:-0600
TZOFFSETTO:-0500
TZNAME:CDT
DTSTART:20240310T080000
END:DAYLIGHT
BEGIN:STANDARD
TZOFFSETFROM:-0500
TZOFFSETTO:-0600
TZNAME:CST
DTSTART:20241103T070000
END:STANDARD
BEGIN:DAYLIGHT
TZOFFSETFROM:-0600
TZOFFSETTO:-0500
TZNAME:CDT
DTSTART:20250309T080000
END:DAYLIGHT
BEGIN:STANDARD
TZOFFSETFROM:-0500
TZOFFSETTO:-0600
TZNAME:CST
DTSTART:20251102T070000
END:STANDARD
BEGIN:DAYLIGHT
TZOFFSETFROM:-0600
TZOFFSETTO:-0500
TZNAME:CDT
DTSTART:20260308T080000
END:DAYLIGHT
BEGIN:STANDARD
TZOFFSETFROM:-0500
TZOFFSETTO:-0600
TZNAME:CST
DTSTART:20261101T070000
END:STANDARD
END:VTIMEZONE
BEGIN:VEVENT
DTSTART;TZID=America/Chicago:20250315T100000
DTEND;TZID=America/Chicago:20250315T120000
DTSTAMP:20260419T091824
CREATED:20250107T184231Z
LAST-MODIFIED:20250107T184459Z
UID:10000439-1742032800-1742040000@www.mnastro.org
SUMMARY:2025 MAS New Member Orientation Meeting - Kaposia Library
DESCRIPTION:​Rebecca Messer will be holding an in-person MAS Member Orientation Meeting on Saturday mornings a few times per year. \nAny new (or old) members\, or those considering joining the MAS are invited to meet us from 10:00am to 12:00pm  on Saturday – \nKaposia Library\n131 7th Avenue North\nSouth St. Paul\, MN 55075\nIn this approximately two hour meeting we will introduce the leadership of the MAS\, discuss public and member star parties\, provide a look at all our observing sites\, discuss all the means of communications within the Society\, and provide an overall description of all the benefits of membership in the MAS. \nWe look forward to seeing you! \nRebecca Messer \nMAS Membership Coordinator
URL:https://www.mnastro.org/event/2025-mas-new-member-orientation-meeting-2/
LOCATION:Kaposia Library (South St. Paul)\, 131 Seventh Ave. N.\, South Saint Paul\, MN\, 55075\, United States
CATEGORIES:member,public
ATTACH;FMTTYPE=image/jpeg:https://www.mnastro.org/wp-content/uploads/2025/01/kaposia.jpg
END:VEVENT
END:VCALENDAR