BEGIN:VCALENDAR
VERSION:2.0
PRODID:-//Minnesota Astronomical Society - ECPv6.15.20//NONSGML v1.0//EN
CALSCALE:GREGORIAN
METHOD:PUBLISH
X-WR-CALNAME:Minnesota Astronomical Society
X-ORIGINAL-URL:https://www.mnastro.org
X-WR-CALDESC:Events for Minnesota Astronomical Society
REFRESH-INTERVAL;VALUE=DURATION:PT1H
X-Robots-Tag:noindex
X-PUBLISHED-TTL:PT1H
BEGIN:VTIMEZONE
TZID:America/Chicago
BEGIN:DAYLIGHT
TZOFFSETFROM:-0600
TZOFFSETTO:-0500
TZNAME:CDT
DTSTART:20200308T080000
END:DAYLIGHT
BEGIN:STANDARD
TZOFFSETFROM:-0500
TZOFFSETTO:-0600
TZNAME:CST
DTSTART:20201101T070000
END:STANDARD
BEGIN:DAYLIGHT
TZOFFSETFROM:-0600
TZOFFSETTO:-0500
TZNAME:CDT
DTSTART:20210314T080000
END:DAYLIGHT
BEGIN:STANDARD
TZOFFSETFROM:-0500
TZOFFSETTO:-0600
TZNAME:CST
DTSTART:20211107T070000
END:STANDARD
BEGIN:DAYLIGHT
TZOFFSETFROM:-0600
TZOFFSETTO:-0500
TZNAME:CDT
DTSTART:20220313T080000
END:DAYLIGHT
BEGIN:STANDARD
TZOFFSETFROM:-0500
TZOFFSETTO:-0600
TZNAME:CST
DTSTART:20221106T070000
END:STANDARD
BEGIN:DAYLIGHT
TZOFFSETFROM:-0600
TZOFFSETTO:-0500
TZNAME:CDT
DTSTART:20230312T080000
END:DAYLIGHT
BEGIN:STANDARD
TZOFFSETFROM:-0500
TZOFFSETTO:-0600
TZNAME:CST
DTSTART:20231105T070000
END:STANDARD
END:VTIMEZONE
BEGIN:VEVENT
DTSTART;TZID=America/Chicago:20220701T170000
DTEND;TZID=America/Chicago:20220703T130000
DTSTAMP:20260419T173004
CREATED:20220225T185927Z
LAST-MODIFIED:20220302T040558Z
UID:10000053-1656694800-1656853200@www.mnastro.org
SUMMARY:MAS LLCC Star Party Weekend
DESCRIPTION:MAS Star Party Member Weekend\nUnlike other MAS star party sites\, the nature of the relationship between the MAS and the LLCC requirements affects access by both members and the general public. Specifically: \n\nOther than the Northern Nights Star Fest\, Events held at LLCC are not open to the public. Only MAS members and their immediate family members are authorized to attend scheduled events.\nThe MAS does not call a star party “on” or “off” for any particular evening or weekend – it is up to the individual members to use the weather resources available and decide if it is worth making the trip.  Check the MAS Forum to see if others are going or not going \nThe site is not available for mid-week observing by members.\n\nCheck the MAS forum and state that you intend to go to LLCC for the designated weekend \nLLCC star parties may be available for Friday and Saturday evenings\, weather permitting. \nAdditional information on using the Long Lake Conservation Center\, including map and directions\,can be found on the LLCC page.
URL:https://www.mnastro.org/event/mas-llcc-star-party-weekend/2022-07-01/
LOCATION:Long Lake Conservation Center\, 28952 438th Lane\, Palisade\, 56469\, United States
ATTACH;FMTTYPE=image/jpeg:https://www.mnastro.org/wp-content/uploads/2021/06/LLCCpano.jpg
GEO:46.647;-93.465
X-APPLE-STRUCTURED-LOCATION;VALUE=URI;X-ADDRESS=Long Lake Conservation Center 28952 438th Lane Palisade 56469 United States;X-APPLE-RADIUS=500;X-TITLE=28952 438th Lane:geo:-93.465,46.647
END:VEVENT
BEGIN:VEVENT
DTSTART;TZID=America/Chicago:20220624T170000
DTEND;TZID=America/Chicago:20220626T130000
DTSTAMP:20260419T173004
CREATED:20220225T185927Z
LAST-MODIFIED:20220302T040558Z
UID:10000052-1656090000-1656248400@www.mnastro.org
SUMMARY:MAS LLCC Star Party Weekend
DESCRIPTION:MAS Star Party Member Weekend\nUnlike other MAS star party sites\, the nature of the relationship between the MAS and the LLCC requirements affects access by both members and the general public. Specifically: \n\nOther than the Northern Nights Star Fest\, Events held at LLCC are not open to the public. Only MAS members and their immediate family members are authorized to attend scheduled events.\nThe MAS does not call a star party “on” or “off” for any particular evening or weekend – it is up to the individual members to use the weather resources available and decide if it is worth making the trip.  Check the MAS Forum to see if others are going or not going \nThe site is not available for mid-week observing by members.\n\nCheck the MAS forum and state that you intend to go to LLCC for the designated weekend \nLLCC star parties may be available for Friday and Saturday evenings\, weather permitting. \nAdditional information on using the Long Lake Conservation Center\, including map and directions\,can be found on the LLCC page.
URL:https://www.mnastro.org/event/mas-llcc-star-party-weekend/2022-06-24/
LOCATION:Long Lake Conservation Center\, 28952 438th Lane\, Palisade\, 56469\, United States
ATTACH;FMTTYPE=image/jpeg:https://www.mnastro.org/wp-content/uploads/2021/06/LLCCpano.jpg
GEO:46.647;-93.465
X-APPLE-STRUCTURED-LOCATION;VALUE=URI;X-ADDRESS=Long Lake Conservation Center 28952 438th Lane Palisade 56469 United States;X-APPLE-RADIUS=500;X-TITLE=28952 438th Lane:geo:-93.465,46.647
END:VEVENT
BEGIN:VEVENT
DTSTART;TZID=America/Chicago:20220603T170000
DTEND;TZID=America/Chicago:20220605T130000
DTSTAMP:20260419T173004
CREATED:20220225T185927Z
LAST-MODIFIED:20220302T040558Z
UID:10000051-1654275600-1654434000@www.mnastro.org
SUMMARY:MAS LLCC Star Party Weekend
DESCRIPTION:MAS Star Party Member Weekend\nUnlike other MAS star party sites\, the nature of the relationship between the MAS and the LLCC requirements affects access by both members and the general public. Specifically: \n\nOther than the Northern Nights Star Fest\, Events held at LLCC are not open to the public. Only MAS members and their immediate family members are authorized to attend scheduled events.\nThe MAS does not call a star party “on” or “off” for any particular evening or weekend – it is up to the individual members to use the weather resources available and decide if it is worth making the trip.  Check the MAS Forum to see if others are going or not going \nThe site is not available for mid-week observing by members.\n\nCheck the MAS forum and state that you intend to go to LLCC for the designated weekend \nLLCC star parties may be available for Friday and Saturday evenings\, weather permitting. \nAdditional information on using the Long Lake Conservation Center\, including map and directions\,can be found on the LLCC page.
URL:https://www.mnastro.org/event/mas-llcc-star-party-weekend/2022-06-03/
LOCATION:Long Lake Conservation Center\, 28952 438th Lane\, Palisade\, 56469\, United States
ATTACH;FMTTYPE=image/jpeg:https://www.mnastro.org/wp-content/uploads/2021/06/LLCCpano.jpg
GEO:46.647;-93.465
X-APPLE-STRUCTURED-LOCATION;VALUE=URI;X-ADDRESS=Long Lake Conservation Center 28952 438th Lane Palisade 56469 United States;X-APPLE-RADIUS=500;X-TITLE=28952 438th Lane:geo:-93.465,46.647
END:VEVENT
BEGIN:VEVENT
DTSTART;TZID=America/Chicago:20220527T170000
DTEND;TZID=America/Chicago:20220529T130000
DTSTAMP:20260419T173004
CREATED:20220225T185927Z
LAST-MODIFIED:20220302T040558Z
UID:10000050-1653670800-1653829200@www.mnastro.org
SUMMARY:MAS LLCC Star Party Weekend
DESCRIPTION:MAS Star Party Member Weekend\nUnlike other MAS star party sites\, the nature of the relationship between the MAS and the LLCC requirements affects access by both members and the general public. Specifically: \n\nOther than the Northern Nights Star Fest\, Events held at LLCC are not open to the public. Only MAS members and their immediate family members are authorized to attend scheduled events.\nThe MAS does not call a star party “on” or “off” for any particular evening or weekend – it is up to the individual members to use the weather resources available and decide if it is worth making the trip.  Check the MAS Forum to see if others are going or not going \nThe site is not available for mid-week observing by members.\n\nCheck the MAS forum and state that you intend to go to LLCC for the designated weekend \nLLCC star parties may be available for Friday and Saturday evenings\, weather permitting. \nAdditional information on using the Long Lake Conservation Center\, including map and directions\,can be found on the LLCC page.
URL:https://www.mnastro.org/event/mas-llcc-star-party-weekend/2022-05-27/
LOCATION:Long Lake Conservation Center\, 28952 438th Lane\, Palisade\, 56469\, United States
ATTACH;FMTTYPE=image/jpeg:https://www.mnastro.org/wp-content/uploads/2021/06/LLCCpano.jpg
GEO:46.647;-93.465
X-APPLE-STRUCTURED-LOCATION;VALUE=URI;X-ADDRESS=Long Lake Conservation Center 28952 438th Lane Palisade 56469 United States;X-APPLE-RADIUS=500;X-TITLE=28952 438th Lane:geo:-93.465,46.647
END:VEVENT
BEGIN:VEVENT
DTSTART;TZID=America/Chicago:20220429T170000
DTEND;TZID=America/Chicago:20220501T130000
DTSTAMP:20260419T173004
CREATED:20220225T185927Z
LAST-MODIFIED:20220302T040558Z
UID:10000049-1651251600-1651410000@www.mnastro.org
SUMMARY:MAS LLCC Star Party Weekend
DESCRIPTION:MAS Star Party Member Weekend\nUnlike other MAS star party sites\, the nature of the relationship between the MAS and the LLCC requirements affects access by both members and the general public. Specifically: \n\nOther than the Northern Nights Star Fest\, Events held at LLCC are not open to the public. Only MAS members and their immediate family members are authorized to attend scheduled events.\nThe MAS does not call a star party “on” or “off” for any particular evening or weekend – it is up to the individual members to use the weather resources available and decide if it is worth making the trip.  Check the MAS Forum to see if others are going or not going \nThe site is not available for mid-week observing by members.\n\nCheck the MAS forum and state that you intend to go to LLCC for the designated weekend \nLLCC star parties may be available for Friday and Saturday evenings\, weather permitting. \nAdditional information on using the Long Lake Conservation Center\, including map and directions\,can be found on the LLCC page.
URL:https://www.mnastro.org/event/mas-llcc-star-party-weekend/2022-04-29/
LOCATION:Long Lake Conservation Center\, 28952 438th Lane\, Palisade\, 56469\, United States
ATTACH;FMTTYPE=image/jpeg:https://www.mnastro.org/wp-content/uploads/2021/06/LLCCpano.jpg
GEO:46.647;-93.465
X-APPLE-STRUCTURED-LOCATION;VALUE=URI;X-ADDRESS=Long Lake Conservation Center 28952 438th Lane Palisade 56469 United States;X-APPLE-RADIUS=500;X-TITLE=28952 438th Lane:geo:-93.465,46.647
END:VEVENT
BEGIN:VEVENT
DTSTART;TZID=America/Chicago:20220422T170000
DTEND;TZID=America/Chicago:20220424T130000
DTSTAMP:20260419T173004
CREATED:20220225T185927Z
LAST-MODIFIED:20220302T040558Z
UID:10000048-1650646800-1650805200@www.mnastro.org
SUMMARY:MAS LLCC Star Party Weekend
DESCRIPTION:MAS Star Party Member Weekend\nUnlike other MAS star party sites\, the nature of the relationship between the MAS and the LLCC requirements affects access by both members and the general public. Specifically: \n\nOther than the Northern Nights Star Fest\, Events held at LLCC are not open to the public. Only MAS members and their immediate family members are authorized to attend scheduled events.\nThe MAS does not call a star party “on” or “off” for any particular evening or weekend – it is up to the individual members to use the weather resources available and decide if it is worth making the trip.  Check the MAS Forum to see if others are going or not going \nThe site is not available for mid-week observing by members.\n\nCheck the MAS forum and state that you intend to go to LLCC for the designated weekend \nLLCC star parties may be available for Friday and Saturday evenings\, weather permitting. \nAdditional information on using the Long Lake Conservation Center\, including map and directions\,can be found on the LLCC page.
URL:https://www.mnastro.org/event/mas-llcc-star-party-weekend/2022-04-22/
LOCATION:Long Lake Conservation Center\, 28952 438th Lane\, Palisade\, 56469\, United States
ATTACH;FMTTYPE=image/jpeg:https://www.mnastro.org/wp-content/uploads/2021/06/LLCCpano.jpg
GEO:46.647;-93.465
X-APPLE-STRUCTURED-LOCATION;VALUE=URI;X-ADDRESS=Long Lake Conservation Center 28952 438th Lane Palisade 56469 United States;X-APPLE-RADIUS=500;X-TITLE=28952 438th Lane:geo:-93.465,46.647
END:VEVENT
BEGIN:VEVENT
DTSTART;TZID=America/Chicago:20220401T170000
DTEND;TZID=America/Chicago:20220403T130000
DTSTAMP:20260419T173004
CREATED:20220225T185927Z
LAST-MODIFIED:20220302T040558Z
UID:10000047-1648832400-1648990800@www.mnastro.org
SUMMARY:MAS LLCC Star Party Weekend
DESCRIPTION:MAS Star Party Member Weekend\nUnlike other MAS star party sites\, the nature of the relationship between the MAS and the LLCC requirements affects access by both members and the general public. Specifically: \n\nOther than the Northern Nights Star Fest\, Events held at LLCC are not open to the public. Only MAS members and their immediate family members are authorized to attend scheduled events.\nThe MAS does not call a star party “on” or “off” for any particular evening or weekend – it is up to the individual members to use the weather resources available and decide if it is worth making the trip.  Check the MAS Forum to see if others are going or not going \nThe site is not available for mid-week observing by members.\n\nCheck the MAS forum and state that you intend to go to LLCC for the designated weekend \nLLCC star parties may be available for Friday and Saturday evenings\, weather permitting. \nAdditional information on using the Long Lake Conservation Center\, including map and directions\,can be found on the LLCC page.
URL:https://www.mnastro.org/event/mas-llcc-star-party-weekend/2022-04-01/
LOCATION:Long Lake Conservation Center\, 28952 438th Lane\, Palisade\, 56469\, United States
ATTACH;FMTTYPE=image/jpeg:https://www.mnastro.org/wp-content/uploads/2021/06/LLCCpano.jpg
GEO:46.647;-93.465
X-APPLE-STRUCTURED-LOCATION;VALUE=URI;X-ADDRESS=Long Lake Conservation Center 28952 438th Lane Palisade 56469 United States;X-APPLE-RADIUS=500;X-TITLE=28952 438th Lane:geo:-93.465,46.647
END:VEVENT
BEGIN:VEVENT
DTSTART;TZID=America/Chicago:20220325T170000
DTEND;TZID=America/Chicago:20220327T130000
DTSTAMP:20260419T173004
CREATED:20220225T185927Z
LAST-MODIFIED:20220302T040558Z
UID:10000046-1648227600-1648386000@www.mnastro.org
SUMMARY:MAS LLCC Star Party Weekend
DESCRIPTION:MAS Star Party Member Weekend\nUnlike other MAS star party sites\, the nature of the relationship between the MAS and the LLCC requirements affects access by both members and the general public. Specifically: \n\nOther than the Northern Nights Star Fest\, Events held at LLCC are not open to the public. Only MAS members and their immediate family members are authorized to attend scheduled events.\nThe MAS does not call a star party “on” or “off” for any particular evening or weekend – it is up to the individual members to use the weather resources available and decide if it is worth making the trip.  Check the MAS Forum to see if others are going or not going \nThe site is not available for mid-week observing by members.\n\nCheck the MAS forum and state that you intend to go to LLCC for the designated weekend \nLLCC star parties may be available for Friday and Saturday evenings\, weather permitting. \nAdditional information on using the Long Lake Conservation Center\, including map and directions\,can be found on the LLCC page.
URL:https://www.mnastro.org/event/mas-llcc-star-party-weekend/2022-03-25/
LOCATION:Long Lake Conservation Center\, 28952 438th Lane\, Palisade\, 56469\, United States
ATTACH;FMTTYPE=image/jpeg:https://www.mnastro.org/wp-content/uploads/2021/06/LLCCpano.jpg
GEO:46.647;-93.465
X-APPLE-STRUCTURED-LOCATION;VALUE=URI;X-ADDRESS=Long Lake Conservation Center 28952 438th Lane Palisade 56469 United States;X-APPLE-RADIUS=500;X-TITLE=28952 438th Lane:geo:-93.465,46.647
END:VEVENT
BEGIN:VEVENT
DTSTART;TZID=America/Chicago:20210901T080000
DTEND;TZID=America/Chicago:20210906T170000
DTSTAMP:20260419T173004
CREATED:20210626T042026Z
LAST-MODIFIED:20220705T190413Z
UID:10000079-1630483200-1630947600@www.mnastro.org
SUMMARY:Northern Nights Star Fest - September 1-6
DESCRIPTION:Northern Nights Star Fest will be held at long Lake Conservation Center September 1-6\, 2021. \nThe LLCC Committee is working hard to put together a great event. Our Featured Speaker will be Bob King on Saturday September 4th. \nWe will have a number of great door prizes\, including some great items donated by Vortex Optics https://vortexoptics.com/ \nIn addition to the prizes\, we will hold a swap-meet\, have a challenging observing list\, and offer great views through our 25″ and 30″ Obsession telescopes! \nRegistration has opened up: $50 participation fee plus a-la-carte meals and various lodging options. The direct registration link is https://www.longlakecc.org/star-party-registration \nDetails of NNSF can be found on the event page: http://www.mnastro.org/northern-nights-star-fest/ \nJoin us for the premier MAS Regional Star Party at our great dark-sky site. \nRegister soon\, as space is limited.
URL:https://www.mnastro.org/event/northern-nights-star-fest-september-1-6/
LOCATION:Long Lake Conservation Center\, 28952 438th Lane\, Palisade\, 56469\, United States
CATEGORIES:public
ATTACH;FMTTYPE=image/jpeg:https://www.mnastro.org/wp-content/uploads/2021/06/LLCCpano.jpg
GEO:46.647;-93.465
X-APPLE-STRUCTURED-LOCATION;VALUE=URI;X-ADDRESS=Long Lake Conservation Center 28952 438th Lane Palisade 56469 United States;X-APPLE-RADIUS=500;X-TITLE=28952 438th Lane:geo:-93.465,46.647
END:VEVENT
END:VCALENDAR