BEGIN:VCALENDAR
VERSION:2.0
PRODID:-//Minnesota Astronomical Society - ECPv6.15.20//NONSGML v1.0//EN
CALSCALE:GREGORIAN
METHOD:PUBLISH
X-WR-CALNAME:Minnesota Astronomical Society
X-ORIGINAL-URL:https://www.mnastro.org
X-WR-CALDESC:Events for Minnesota Astronomical Society
REFRESH-INTERVAL;VALUE=DURATION:PT1H
X-Robots-Tag:noindex
X-PUBLISHED-TTL:PT1H
BEGIN:VTIMEZONE
TZID:America/Chicago
BEGIN:DAYLIGHT
TZOFFSETFROM:-0600
TZOFFSETTO:-0500
TZNAME:CDT
DTSTART:20230312T080000
END:DAYLIGHT
BEGIN:STANDARD
TZOFFSETFROM:-0500
TZOFFSETTO:-0600
TZNAME:CST
DTSTART:20231105T070000
END:STANDARD
BEGIN:DAYLIGHT
TZOFFSETFROM:-0600
TZOFFSETTO:-0500
TZNAME:CDT
DTSTART:20240310T080000
END:DAYLIGHT
BEGIN:STANDARD
TZOFFSETFROM:-0500
TZOFFSETTO:-0600
TZNAME:CST
DTSTART:20241103T070000
END:STANDARD
BEGIN:DAYLIGHT
TZOFFSETFROM:-0600
TZOFFSETTO:-0500
TZNAME:CDT
DTSTART:20250309T080000
END:DAYLIGHT
BEGIN:STANDARD
TZOFFSETFROM:-0500
TZOFFSETTO:-0600
TZNAME:CST
DTSTART:20251102T070000
END:STANDARD
END:VTIMEZONE
BEGIN:VEVENT
DTSTART;TZID=America/Chicago:20240224T100000
DTEND;TZID=America/Chicago:20240224T120000
DTSTAMP:20260419T202010
CREATED:20240111T214019Z
LAST-MODIFIED:20240118T142946Z
UID:10000362-1708768800-1708776000@www.mnastro.org
SUMMARY:New Member Orientation
DESCRIPTION:​Rebecca Messer will be holding an in-person MAS Member Orientation Meeting on Saturday\, February 24\, 2024. \nAny new (or old) members\, or those considering joining the MAS are invited to meet us from 10:00am to 12:00pm on Saturday February 24 in the meeting room of the Plymouth Library – 15700 36th Ave. N. Plymouth \, MN 55446. If you need information from the library\, its telephone number is 612-543-5825. \nIn this approximately two hour meeting we will introduce the leadership of the MAS\, discuss public and member star parties\, provide a look at all our observing sites\, discuss all the means of communications within the Society\, and provide an overall description of all the benefits of membership in the MAS. \nWe look forward to seeing you! \nRebecca Messer \nMAS Membership Coordinator
URL:https://www.mnastro.org/event/new-member-orientation/
LOCATION:Plymouth Library\, 15700 36th Ave. N.\, Plymouth\, MN\, 55446\, United States
CATEGORIES:member,public
END:VEVENT
END:VCALENDAR