BEGIN:VCALENDAR
VERSION:2.0
PRODID:-//Minnesota Astronomical Society - ECPv6.15.20//NONSGML v1.0//EN
CALSCALE:GREGORIAN
METHOD:PUBLISH
X-ORIGINAL-URL:https://www.mnastro.org
X-WR-CALDESC:Events for Minnesota Astronomical Society
REFRESH-INTERVAL;VALUE=DURATION:PT1H
X-Robots-Tag:noindex
X-PUBLISHED-TTL:PT1H
BEGIN:VTIMEZONE
TZID:America/Chicago
BEGIN:DAYLIGHT
TZOFFSETFROM:-0600
TZOFFSETTO:-0500
TZNAME:CDT
DTSTART:20200308T080000
END:DAYLIGHT
BEGIN:STANDARD
TZOFFSETFROM:-0500
TZOFFSETTO:-0600
TZNAME:CST
DTSTART:20201101T070000
END:STANDARD
BEGIN:DAYLIGHT
TZOFFSETFROM:-0600
TZOFFSETTO:-0500
TZNAME:CDT
DTSTART:20210314T080000
END:DAYLIGHT
BEGIN:STANDARD
TZOFFSETFROM:-0500
TZOFFSETTO:-0600
TZNAME:CST
DTSTART:20211107T070000
END:STANDARD
BEGIN:DAYLIGHT
TZOFFSETFROM:-0600
TZOFFSETTO:-0500
TZNAME:CDT
DTSTART:20220313T080000
END:DAYLIGHT
BEGIN:STANDARD
TZOFFSETFROM:-0500
TZOFFSETTO:-0600
TZNAME:CST
DTSTART:20221106T070000
END:STANDARD
BEGIN:DAYLIGHT
TZOFFSETFROM:-0600
TZOFFSETTO:-0500
TZNAME:CDT
DTSTART:20230312T080000
END:DAYLIGHT
BEGIN:STANDARD
TZOFFSETFROM:-0500
TZOFFSETTO:-0600
TZNAME:CST
DTSTART:20231105T070000
END:STANDARD
BEGIN:DAYLIGHT
TZOFFSETFROM:-0600
TZOFFSETTO:-0500
TZNAME:CDT
DTSTART:20240310T080000
END:DAYLIGHT
BEGIN:STANDARD
TZOFFSETFROM:-0500
TZOFFSETTO:-0600
TZNAME:CST
DTSTART:20241103T070000
END:STANDARD
END:VTIMEZONE
BEGIN:VEVENT
DTSTART;TZID=America/Chicago:20230107T130000
DTEND;TZID=America/Chicago:20230107T150000
DTSTAMP:20260419T123228
CREATED:20221213T203639Z
LAST-MODIFIED:20221213T222606Z
UID:10000213-1673096400-1673103600@www.mnastro.org
SUMMARY:BSIG January 2023 Zoom Presentation – “Aids to Navigating the Night Sky” by Steve Emert
DESCRIPTION:BSIG Beginner’s Special Interest Group Zoom Presentation\nAids to Navigating the Night Sky\nFeatured Speaker: Steve Emert\nSynopsis: We have so many more options to navigate the sky now than when I started in this hobby twenty years ago – in the days before smartphones and when PC power was much more limited. In this January 7 Zoom meeting let’s talk about how we can use both some of the printed aids like Sky Atlas 2000 and the Mag 7 Star Atlas and PC-based aids like the freeware Cartes du Ciel and Stellarium and smartphone apps like Star Walk\, SkySafari Pro and SkyPortal to plan our observing sessions and get the most out of our stargazing experience. \nJoin us on Zoom – ZOOM LINK \nThe link will open 15 minutes before the scheduled presentation time.  There is no cost to join\, and MAS membership is not required. \nDial-in Phone Number \n+1 312 626 6799 US (Chicago) \nMeeting ID: 856 9764 5338 \nPasscode: 479576 \nSee you there \nSuresh SreenivasanB-SIG/FB/Metcalf Comm \n			\n				\n				\n				\n				\n				\n				\n				\n					\n				\n				\n					\n\n  \n\n\n\n Fill in this form to sign-up for BSIG events only.  \n\nNote: Public Star Parties at ELO do not require sign-up. \n\n\n Your name (required):\n     \n\n Your email (required):\n     \n\n Your phone:\n     \n\n BSIG Event date (required):  \n\n Number people attending:  \n\n Let us know if you have any questions or how we could help you! (required):
URL:https://www.mnastro.org/event/bsig-january-2023-zoom-presentation-aids-to-navigating-the-night-sky-by-steve-emert/
LOCATION:Virtual Meeting Using Zoom
CATEGORIES:BSIG,BSIG Virtual Presentation,public
END:VEVENT
BEGIN:VEVENT
DTSTART;TZID=America/Chicago:20221217T130000
DTEND;TZID=America/Chicago:20221217T150000
DTSTAMP:20260419T123228
CREATED:20221015T204057Z
LAST-MODIFIED:20221208T015558Z
UID:10000163-1671282000-1671289200@www.mnastro.org
SUMMARY:BSIG December 2022 Zoom Presentation - "The Winter Constellations" by Claire Weaverling
DESCRIPTION:BSIG Beginner’s Special Interest Group Zoom Presentation\nThe Winter Constellations\nFeatured Speaker: Claire Weaverling\nSynopsis:  Let’s explore the Winter Hexagon! Starting with the well-known Orion constellation\, and working our way around\, we’ll check out the brightest stars and star hop to the best deep sky objects for beginners. So\, grab a cup of hot cocoa and join us on Zoom for the December BSIG. \nJoin us on Zoom – ZOOM LINK \nThe link will open 15 minutes before the scheduled presentation time.  There is no cost to join\, and MAS membership is not required. \nDial-in Phone Number \n+1 312 626 6799 US (Chicago) \nMeeting ID: 811 9712 5669 \nPasscode: 518039 \nSee you there \nSuresh SreenivasanB-SIG/FB/Metcalf Comm \n			\n				\n				\n				\n				\n				\n				\n				\n					\n				\n				\n					\n\n  \n\n\n\n Fill in this form to sign-up for BSIG events only.  \n\nNote: Public Star Parties at ELO do not require sign-up. \n\n\n Your name (required):\n     \n\n Your email (required):\n     \n\n Your phone:\n     \n\n BSIG Event date (required):  \n\n Number people attending:  \n\n Let us know if you have any questions or how we could help you! (required):
URL:https://www.mnastro.org/event/bsig-december-2022-zoom-presentation-the-winter-constellations-by-claire-weaverling/
LOCATION:Virtual Meeting Using Zoom
CATEGORIES:BSIG,BSIG Virtual Presentation,public
ATTACH;FMTTYPE=image/jpeg:https://www.mnastro.org/wp-content/uploads/2021/07/zoom-logo.jpg
END:VEVENT
BEGIN:VEVENT
DTSTART;TZID=America/Chicago:20220122T130000
DTEND;TZID=America/Chicago:20220122T150000
DTSTAMP:20260419T123228
CREATED:20211228T034432Z
LAST-MODIFIED:20221113T011738Z
UID:10000023-1642856400-1642863600@www.mnastro.org
SUMMARY:MAS Beginner's Group Virtual Presentation - January 2022
DESCRIPTION:The MAS invites everyone to the virtual Beginner’s Group Presentation using ZOOM.. \nFeatured Speaker:   Jerry JonesTopic: Organizing your observing evenings with – and without – A.L. Observing Projects \nVisit the B-SIG Discussion Forum for more information and any last minute changes. \nThis meeting will be held online using Zoom. If you would like to join us you will need use the following URL: \nhttps://us06web.zoom.us/j/89162001978?pwd=bWU3UUJ2UGtWVW1GK3d6RW0yd1NsZz09 \nYou can probably hear best with a headset but your computer’s speaker and microphone will also work. \nDial-in Phone Number \nMeeting ID: Passcode:  \n+1 312 626 6799 US (Chicago) \nIn order to ensure the most success we are asking everyone to follow a couple of rules: \n1. Don’t turn on your camera – it sucks up bandwidth and we really don’t need to see you.2. Keep your microphone muted until you are prompted during a question and answer session during the presentation. This will cut down background noise substantially.3. You can request to ask a question in the chat area in Zoom and wait to be prompted by the moderator. \nWe hope you can join us.Clear skies! \nSuresh SreenivasanMAS Beginner’s Coordinator
URL:https://www.mnastro.org/event/mas-bsig-virtual-january-2022/
LOCATION:Virtual Meeting Using Zoom
CATEGORIES:BSIG,BSIG Virtual Presentation,public
ATTACH;FMTTYPE=image/jpeg:https://www.mnastro.org/wp-content/uploads/2021/12/MAS_BSIG_virtual.jpg
END:VEVENT
BEGIN:VEVENT
DTSTART;TZID=America/Chicago:20211007T190000
DTEND;TZID=America/Chicago:20211007T210000
DTSTAMP:20260419T123228
CREATED:20210826T030700Z
LAST-MODIFIED:20221113T011651Z
UID:10000020-1633633200-1633640400@www.mnastro.org
SUMMARY:Virtual Monthly Meeting October 2021 - Featuring Ron Schmit
DESCRIPTION:This meeting will be help online using Zoom. If you would like to join us you will need use the following URL: \nhttps://us06web.zoom.us/j/85142634726?pwd=RXdXV1BWNFo0dlZvY0xsRkZYUHZVdz09 \nYou can probably hear best with a headset but your computer’s speaker and microphone will also work. \nDial-in Phone Number \nMeeting ID: 851 4263 4726Passcode: 024336 \n+1 312 626 6799 US (Chicago) \nIn order to ensure the most success we are asking everyone to follow a couple of rules: \n1. Don’t turn on your camera – it sucks up bandwidth and we really don’t need to see you. \n2. Keep your microphone muted until you are prompted during a question and answer session during the presentation. This will cut down background noise substantially. \n3. You can request to ask a question in the chat area of the Meet and wait to be prompted by the moderator. \nWe hope you can join us.Clear skies! \nMark JobMAS President
URL:https://www.mnastro.org/event/virtual-monthly-meeting-september-2021-2/
LOCATION:Virtual Meeting Using Zoom
CATEGORIES:Monthly Meeting,public
ATTACH;FMTTYPE=image/jpeg:https://www.mnastro.org/wp-content/uploads/2021/08/MAS-General-Meeting.jpg
END:VEVENT
BEGIN:VEVENT
DTSTART;TZID=America/Chicago:20210903T190000
DTEND;TZID=America/Chicago:20210903T210000
DTSTAMP:20260419T123228
CREATED:20210826T030700Z
LAST-MODIFIED:20221113T011643Z
UID:10000085-1630695600-1630702800@www.mnastro.org
SUMMARY:Virtual Monthly Meeting September 2021
DESCRIPTION:Virtual Monthly Meeting\nFeatured Speaker: Keith Olive – Minnesota Institute of Astrophysics​ \nTopic: “A Brief History of the Universe – From the Big Bang Until Today” \n7:00 pm – 9:00 pm \n			\n			\n				\n				\n				\n				\n			\n				\n				\n				\n				\n				\n				\n			\n				\n				\n				\n				\n			\n				\n				\n				\n				\n				\n				\n				\n				\n				\n				\n				This meeting will be help online using Zoom. If you would like to join us you will need use the following URL: \nhttps://us06web.zoom.us/j/82437115786?pwd=dC9QcktNWjJyQjc0akx3blFNbFk5Zz09 \nYou can probably hear best with a headset but your computer’s speaker and microphone will also work. \nDial-in Phone Number \nMeeting ID: 824 3711 5786Passcode: 178760 \n+1 312 626 6799 US (Chicago) \nIn order to ensure the most success we are asking everyone to follow a couple of rules: \n1. Don’t turn on your camera – it sucks up bandwidth and we really don’t need to see you. \n2. Keep your microphone muted until you are prompted during a question and answer session during the presentation. This will cut down background noise substantially. \n3. You can request to ask a question in the chat area of the Meet and wait to be prompted by the moderator. \nWe hope you can join us.Clear skies! \nMark JobMAS President
URL:https://www.mnastro.org/event/virtual-monthly-meeting-september-2021/
LOCATION:Virtual Meeting Using Zoom
CATEGORIES:Monthly Meeting,public
ATTACH;FMTTYPE=image/jpeg:https://www.mnastro.org/wp-content/uploads/2021/08/MAS-General-Meeting.jpg
END:VEVENT
BEGIN:VEVENT
DTSTART;TZID=America/Chicago:20210805T190000
DTEND;TZID=America/Chicago:20210805T210000
DTSTAMP:20260419T123228
CREATED:20210708T040255Z
LAST-MODIFIED:20210708T045623Z
UID:10000002-1628190000-1628197200@www.mnastro.org
SUMMARY:Virtual Monthly Meeting August 2021
DESCRIPTION:Virtual Monthly Meeting\nFeatured Speaker: TBD \nTopic: TBD \n7:00 pm – 9:00 pm \n			\n			\n				\n				\n				\n				\n			\n				\n				\n				\n				\n				\n				\n				\n				\n				\n				\n				This meeting will be help online using Zoom. If you would like to join us you will need use the following URL: \nLINK TBD \nYou can probably hear best with a headset but your computer’s speaker and microphone will also work. \nDial-in Phone Number \nMeeting ID: TBDPasscode: TBD \n+1 312 626 6799 US (Chicago) \nIn order to ensure the most success we are asking everyone to follow a couple of rules: \n1. Don’t turn on your camera – it sucks up bandwidth and we really don’t need to see you. \n2. Keep your microphone muted until you are prompted during a question and answer session during the presentation. This will cut down background noise substantially. \n3. You can request to ask a question in the chat area of the Meet and wait to be prompted by the moderator. \nWe hope you can join us.Clear skies! \nMark JobMAS President
URL:https://www.mnastro.org/event/virtual-monthly-meeting-august-2021/
LOCATION:Virtual Meeting Using Zoom
CATEGORIES:public
END:VEVENT
END:VCALENDAR